BEGIN:VCALENDAR
VERSION:2.0
PRODID:-//Saginaw YMCA - ECPv6.15.20//NONSGML v1.0//EN
CALSCALE:GREGORIAN
METHOD:PUBLISH
X-ORIGINAL-URL:https://saginawymca.org
X-WR-CALDESC:Events for Saginaw YMCA
REFRESH-INTERVAL;VALUE=DURATION:PT1H
X-Robots-Tag:noindex
X-PUBLISHED-TTL:PT1H
BEGIN:VTIMEZONE
TZID:America/Detroit
BEGIN:DAYLIGHT
TZOFFSETFROM:-0500
TZOFFSETTO:-0400
TZNAME:EDT
DTSTART:20240310T070000
END:DAYLIGHT
BEGIN:STANDARD
TZOFFSETFROM:-0400
TZOFFSETTO:-0500
TZNAME:EST
DTSTART:20241103T060000
END:STANDARD
BEGIN:DAYLIGHT
TZOFFSETFROM:-0500
TZOFFSETTO:-0400
TZNAME:EDT
DTSTART:20250309T070000
END:DAYLIGHT
BEGIN:STANDARD
TZOFFSETFROM:-0400
TZOFFSETTO:-0500
TZNAME:EST
DTSTART:20251102T060000
END:STANDARD
BEGIN:DAYLIGHT
TZOFFSETFROM:-0500
TZOFFSETTO:-0400
TZNAME:EDT
DTSTART:20260308T070000
END:DAYLIGHT
BEGIN:STANDARD
TZOFFSETFROM:-0400
TZOFFSETTO:-0500
TZNAME:EST
DTSTART:20261101T060000
END:STANDARD
END:VTIMEZONE
BEGIN:VEVENT
DTSTART;TZID=America/Detroit:20250923T163000
DTEND;TZID=America/Detroit:20250923T183000
DTSTAMP:20260425T094419
CREATED:20250805T184036Z
LAST-MODIFIED:20250805T184036Z
UID:10000593-1758645000-1758652200@saginawymca.org
SUMMARY:SASA Girl Swimming
DESCRIPTION:Clara Wagner – Swimming Head Coach \n\nSaginaw Arts and Sciences Academy\n3115 Mackinaw St\nSaginaw\, MI 48602\nOffice (989) 399-5500\n\nThe Saginaw Arts and Sciences Academy (SASA) has been expanding and enhancing learning opportunities for gifted/talented students in the Tri-County area since 1981. During its history\, initially as the Center for the Arts and Sciences (C.A.S.) and since 1999 as the Saginaw Arts & Sciences Academy\, it has earned a national reputation for excellence.
URL:https://saginawymca.org/event/sasa-girl-swimming/2025-09-23/
LOCATION:Saginaw YMCA: Deep Pool\, 1915 Fordney St\, Saginaw\, MI\, 48601\, United States
CATEGORIES:Aquatics
ORGANIZER;CN="SASA Athletics":MAILTO:jbarnes@spsd.net
END:VEVENT
BEGIN:VEVENT
DTSTART;TZID=America/Detroit:20250921T130000
DTEND;TZID=America/Detroit:20250921T150000
DTSTAMP:20260425T094419
CREATED:20250812T175826Z
LAST-MODIFIED:20250812T180003Z
UID:10000681-1758459600-1758466800@saginawymca.org
SUMMARY:SASA Girl Swimming
DESCRIPTION:Clara Wagner – Swimming Head Coach \n\nSaginaw Arts and Sciences Academy\n3115 Mackinaw St\nSaginaw\, MI 48602\nOffice (989) 399-5500\n\nThe Saginaw Arts and Sciences Academy (SASA) has been expanding and enhancing learning opportunities for gifted/talented students in the Tri-County area since 1981. During its history\, initially as the Center for the Arts and Sciences (C.A.S.) and since 1999 as the Saginaw Arts & Sciences Academy\, it has earned a national reputation for excellence.
URL:https://saginawymca.org/event/sasa-girl-swimming-3/2025-09-21/
LOCATION:Saginaw YMCA: Deep Pool\, 1915 Fordney St\, Saginaw\, MI\, 48601\, United States
CATEGORIES:Aquatics
ORGANIZER;CN="SASA Athletics":MAILTO:jbarnes@spsd.net
END:VEVENT
BEGIN:VEVENT
DTSTART;TZID=America/Detroit:20250919T163000
DTEND;TZID=America/Detroit:20250919T183000
DTSTAMP:20260425T094419
CREATED:20250805T184112Z
LAST-MODIFIED:20250812T181429Z
UID:10000622-1758299400-1758306600@saginawymca.org
SUMMARY:SASA Girl Swimming
DESCRIPTION:Clara Wagner – Swimming Head Coach \n\nSaginaw Arts and Sciences Academy\n3115 Mackinaw St\nSaginaw\, MI 48602\nOffice (989) 399-5500\n\nThe Saginaw Arts and Sciences Academy (SASA) has been expanding and enhancing learning opportunities for gifted/talented students in the Tri-County area since 1981. During its history\, initially as the Center for the Arts and Sciences (C.A.S.) and since 1999 as the Saginaw Arts & Sciences Academy\, it has earned a national reputation for excellence.
URL:https://saginawymca.org/event/sasa-girl-swimming-2/2025-09-19/
LOCATION:Saginaw YMCA: Deep Pool\, 1915 Fordney St\, Saginaw\, MI\, 48601\, United States
CATEGORIES:Aquatics
ORGANIZER;CN="SASA Athletics":MAILTO:jbarnes@spsd.net
END:VEVENT
BEGIN:VEVENT
DTSTART;TZID=America/Detroit:20250916T163000
DTEND;TZID=America/Detroit:20250916T183000
DTSTAMP:20260425T094419
CREATED:20250805T184036Z
LAST-MODIFIED:20250805T184036Z
UID:10000592-1758040200-1758047400@saginawymca.org
SUMMARY:SASA Girl Swimming
DESCRIPTION:Clara Wagner – Swimming Head Coach \n\nSaginaw Arts and Sciences Academy\n3115 Mackinaw St\nSaginaw\, MI 48602\nOffice (989) 399-5500\n\nThe Saginaw Arts and Sciences Academy (SASA) has been expanding and enhancing learning opportunities for gifted/talented students in the Tri-County area since 1981. During its history\, initially as the Center for the Arts and Sciences (C.A.S.) and since 1999 as the Saginaw Arts & Sciences Academy\, it has earned a national reputation for excellence.
URL:https://saginawymca.org/event/sasa-girl-swimming/2025-09-16/
LOCATION:Saginaw YMCA: Deep Pool\, 1915 Fordney St\, Saginaw\, MI\, 48601\, United States
CATEGORIES:Aquatics
ORGANIZER;CN="SASA Athletics":MAILTO:jbarnes@spsd.net
END:VEVENT
BEGIN:VEVENT
DTSTART;TZID=America/Detroit:20250914T130000
DTEND;TZID=America/Detroit:20250914T150000
DTSTAMP:20260425T094419
CREATED:20250812T175826Z
LAST-MODIFIED:20250812T180003Z
UID:10000680-1757854800-1757862000@saginawymca.org
SUMMARY:SASA Girl Swimming
DESCRIPTION:Clara Wagner – Swimming Head Coach \n\nSaginaw Arts and Sciences Academy\n3115 Mackinaw St\nSaginaw\, MI 48602\nOffice (989) 399-5500\n\nThe Saginaw Arts and Sciences Academy (SASA) has been expanding and enhancing learning opportunities for gifted/talented students in the Tri-County area since 1981. During its history\, initially as the Center for the Arts and Sciences (C.A.S.) and since 1999 as the Saginaw Arts & Sciences Academy\, it has earned a national reputation for excellence.
URL:https://saginawymca.org/event/sasa-girl-swimming-3/2025-09-14/
LOCATION:Saginaw YMCA: Deep Pool\, 1915 Fordney St\, Saginaw\, MI\, 48601\, United States
CATEGORIES:Aquatics
ORGANIZER;CN="SASA Athletics":MAILTO:jbarnes@spsd.net
END:VEVENT
BEGIN:VEVENT
DTSTART;TZID=America/Detroit:20250912T163000
DTEND;TZID=America/Detroit:20250912T183000
DTSTAMP:20260425T094419
CREATED:20250805T184112Z
LAST-MODIFIED:20250812T181429Z
UID:10000621-1757694600-1757701800@saginawymca.org
SUMMARY:SASA Girl Swimming
DESCRIPTION:Clara Wagner – Swimming Head Coach \n\nSaginaw Arts and Sciences Academy\n3115 Mackinaw St\nSaginaw\, MI 48602\nOffice (989) 399-5500\n\nThe Saginaw Arts and Sciences Academy (SASA) has been expanding and enhancing learning opportunities for gifted/talented students in the Tri-County area since 1981. During its history\, initially as the Center for the Arts and Sciences (C.A.S.) and since 1999 as the Saginaw Arts & Sciences Academy\, it has earned a national reputation for excellence.
URL:https://saginawymca.org/event/sasa-girl-swimming-2/2025-09-12/
LOCATION:Saginaw YMCA: Deep Pool\, 1915 Fordney St\, Saginaw\, MI\, 48601\, United States
CATEGORIES:Aquatics
ORGANIZER;CN="SASA Athletics":MAILTO:jbarnes@spsd.net
END:VEVENT
BEGIN:VEVENT
DTSTART;TZID=America/Detroit:20250909T163000
DTEND;TZID=America/Detroit:20250909T183000
DTSTAMP:20260425T094419
CREATED:20250805T184036Z
LAST-MODIFIED:20250805T184036Z
UID:10000591-1757435400-1757442600@saginawymca.org
SUMMARY:SASA Girl Swimming
DESCRIPTION:Clara Wagner – Swimming Head Coach \n\nSaginaw Arts and Sciences Academy\n3115 Mackinaw St\nSaginaw\, MI 48602\nOffice (989) 399-5500\n\nThe Saginaw Arts and Sciences Academy (SASA) has been expanding and enhancing learning opportunities for gifted/talented students in the Tri-County area since 1981. During its history\, initially as the Center for the Arts and Sciences (C.A.S.) and since 1999 as the Saginaw Arts & Sciences Academy\, it has earned a national reputation for excellence.
URL:https://saginawymca.org/event/sasa-girl-swimming/2025-09-09/
LOCATION:Saginaw YMCA: Deep Pool\, 1915 Fordney St\, Saginaw\, MI\, 48601\, United States
CATEGORIES:Aquatics
ORGANIZER;CN="SASA Athletics":MAILTO:jbarnes@spsd.net
END:VEVENT
BEGIN:VEVENT
DTSTART;TZID=America/Detroit:20250902T163000
DTEND;TZID=America/Detroit:20250902T183000
DTSTAMP:20260425T094419
CREATED:20250805T184036Z
LAST-MODIFIED:20250805T184036Z
UID:10000590-1756830600-1756837800@saginawymca.org
SUMMARY:SASA Girl Swimming
DESCRIPTION:Clara Wagner – Swimming Head Coach \n\nSaginaw Arts and Sciences Academy\n3115 Mackinaw St\nSaginaw\, MI 48602\nOffice (989) 399-5500\n\nThe Saginaw Arts and Sciences Academy (SASA) has been expanding and enhancing learning opportunities for gifted/talented students in the Tri-County area since 1981. During its history\, initially as the Center for the Arts and Sciences (C.A.S.) and since 1999 as the Saginaw Arts & Sciences Academy\, it has earned a national reputation for excellence.
URL:https://saginawymca.org/event/sasa-girl-swimming/2025-09-02/
LOCATION:Saginaw YMCA: Deep Pool\, 1915 Fordney St\, Saginaw\, MI\, 48601\, United States
CATEGORIES:Aquatics
ORGANIZER;CN="SASA Athletics":MAILTO:jbarnes@spsd.net
END:VEVENT
BEGIN:VEVENT
DTSTART;TZID=America/Detroit:20250831T130000
DTEND;TZID=America/Detroit:20250831T150000
DTSTAMP:20260425T094419
CREATED:20250812T175826Z
LAST-MODIFIED:20250812T180003Z
UID:10000678-1756645200-1756652400@saginawymca.org
SUMMARY:SASA Girl Swimming
DESCRIPTION:Clara Wagner – Swimming Head Coach \n\nSaginaw Arts and Sciences Academy\n3115 Mackinaw St\nSaginaw\, MI 48602\nOffice (989) 399-5500\n\nThe Saginaw Arts and Sciences Academy (SASA) has been expanding and enhancing learning opportunities for gifted/talented students in the Tri-County area since 1981. During its history\, initially as the Center for the Arts and Sciences (C.A.S.) and since 1999 as the Saginaw Arts & Sciences Academy\, it has earned a national reputation for excellence.
URL:https://saginawymca.org/event/sasa-girl-swimming-3/2025-08-31/
LOCATION:Saginaw YMCA: Deep Pool\, 1915 Fordney St\, Saginaw\, MI\, 48601\, United States
CATEGORIES:Aquatics
ORGANIZER;CN="SASA Athletics":MAILTO:jbarnes@spsd.net
END:VEVENT
BEGIN:VEVENT
DTSTART;TZID=America/Detroit:20250829T163000
DTEND;TZID=America/Detroit:20250829T183000
DTSTAMP:20260425T094419
CREATED:20250805T184112Z
LAST-MODIFIED:20250812T181429Z
UID:10000619-1756485000-1756492200@saginawymca.org
SUMMARY:SASA Girl Swimming
DESCRIPTION:Clara Wagner – Swimming Head Coach \n\nSaginaw Arts and Sciences Academy\n3115 Mackinaw St\nSaginaw\, MI 48602\nOffice (989) 399-5500\n\nThe Saginaw Arts and Sciences Academy (SASA) has been expanding and enhancing learning opportunities for gifted/talented students in the Tri-County area since 1981. During its history\, initially as the Center for the Arts and Sciences (C.A.S.) and since 1999 as the Saginaw Arts & Sciences Academy\, it has earned a national reputation for excellence.
URL:https://saginawymca.org/event/sasa-girl-swimming-2/2025-08-29/
LOCATION:Saginaw YMCA: Deep Pool\, 1915 Fordney St\, Saginaw\, MI\, 48601\, United States
CATEGORIES:Aquatics
ORGANIZER;CN="SASA Athletics":MAILTO:jbarnes@spsd.net
END:VEVENT
BEGIN:VEVENT
DTSTART;TZID=America/Detroit:20250826T163000
DTEND;TZID=America/Detroit:20250826T183000
DTSTAMP:20260425T094419
CREATED:20250805T184036Z
LAST-MODIFIED:20250805T184036Z
UID:10000589-1756225800-1756233000@saginawymca.org
SUMMARY:SASA Girl Swimming
DESCRIPTION:Clara Wagner – Swimming Head Coach \n\nSaginaw Arts and Sciences Academy\n3115 Mackinaw St\nSaginaw\, MI 48602\nOffice (989) 399-5500\n\nThe Saginaw Arts and Sciences Academy (SASA) has been expanding and enhancing learning opportunities for gifted/talented students in the Tri-County area since 1981. During its history\, initially as the Center for the Arts and Sciences (C.A.S.) and since 1999 as the Saginaw Arts & Sciences Academy\, it has earned a national reputation for excellence.
URL:https://saginawymca.org/event/sasa-girl-swimming/2025-08-26/
LOCATION:Saginaw YMCA: Deep Pool\, 1915 Fordney St\, Saginaw\, MI\, 48601\, United States
CATEGORIES:Aquatics
ORGANIZER;CN="SASA Athletics":MAILTO:jbarnes@spsd.net
END:VEVENT
BEGIN:VEVENT
DTSTART;TZID=America/Detroit:20250824T130000
DTEND;TZID=America/Detroit:20250824T150000
DTSTAMP:20260425T094419
CREATED:20250812T175826Z
LAST-MODIFIED:20250812T180003Z
UID:10000677-1756040400-1756047600@saginawymca.org
SUMMARY:SASA Girl Swimming
DESCRIPTION:Clara Wagner – Swimming Head Coach \n\nSaginaw Arts and Sciences Academy\n3115 Mackinaw St\nSaginaw\, MI 48602\nOffice (989) 399-5500\n\nThe Saginaw Arts and Sciences Academy (SASA) has been expanding and enhancing learning opportunities for gifted/talented students in the Tri-County area since 1981. During its history\, initially as the Center for the Arts and Sciences (C.A.S.) and since 1999 as the Saginaw Arts & Sciences Academy\, it has earned a national reputation for excellence.
URL:https://saginawymca.org/event/sasa-girl-swimming-3/2025-08-24/
LOCATION:Saginaw YMCA: Deep Pool\, 1915 Fordney St\, Saginaw\, MI\, 48601\, United States
CATEGORIES:Aquatics
ORGANIZER;CN="SASA Athletics":MAILTO:jbarnes@spsd.net
END:VEVENT
BEGIN:VEVENT
DTSTART;TZID=America/Detroit:20250822T163000
DTEND;TZID=America/Detroit:20250822T183000
DTSTAMP:20260425T094419
CREATED:20250805T184112Z
LAST-MODIFIED:20250812T181429Z
UID:10000618-1755880200-1755887400@saginawymca.org
SUMMARY:SASA Girl Swimming
DESCRIPTION:Clara Wagner – Swimming Head Coach \n\nSaginaw Arts and Sciences Academy\n3115 Mackinaw St\nSaginaw\, MI 48602\nOffice (989) 399-5500\n\nThe Saginaw Arts and Sciences Academy (SASA) has been expanding and enhancing learning opportunities for gifted/talented students in the Tri-County area since 1981. During its history\, initially as the Center for the Arts and Sciences (C.A.S.) and since 1999 as the Saginaw Arts & Sciences Academy\, it has earned a national reputation for excellence.
URL:https://saginawymca.org/event/sasa-girl-swimming-2/2025-08-22/
LOCATION:Saginaw YMCA: Deep Pool\, 1915 Fordney St\, Saginaw\, MI\, 48601\, United States
CATEGORIES:Aquatics
ORGANIZER;CN="SASA Athletics":MAILTO:jbarnes@spsd.net
END:VEVENT
BEGIN:VEVENT
DTSTART;TZID=America/Detroit:20250819T163000
DTEND;TZID=America/Detroit:20250819T183000
DTSTAMP:20260425T094419
CREATED:20250805T184036Z
LAST-MODIFIED:20250805T184036Z
UID:10000588-1755621000-1755628200@saginawymca.org
SUMMARY:SASA Girl Swimming
DESCRIPTION:Clara Wagner – Swimming Head Coach \n\nSaginaw Arts and Sciences Academy\n3115 Mackinaw St\nSaginaw\, MI 48602\nOffice (989) 399-5500\n\nThe Saginaw Arts and Sciences Academy (SASA) has been expanding and enhancing learning opportunities for gifted/talented students in the Tri-County area since 1981. During its history\, initially as the Center for the Arts and Sciences (C.A.S.) and since 1999 as the Saginaw Arts & Sciences Academy\, it has earned a national reputation for excellence.
URL:https://saginawymca.org/event/sasa-girl-swimming/2025-08-19/
LOCATION:Saginaw YMCA: Deep Pool\, 1915 Fordney St\, Saginaw\, MI\, 48601\, United States
CATEGORIES:Aquatics
ORGANIZER;CN="SASA Athletics":MAILTO:jbarnes@spsd.net
END:VEVENT
BEGIN:VEVENT
DTSTART;TZID=America/Detroit:20250817T130000
DTEND;TZID=America/Detroit:20250817T150000
DTSTAMP:20260425T094419
CREATED:20250812T175826Z
LAST-MODIFIED:20250812T180003Z
UID:10000676-1755435600-1755442800@saginawymca.org
SUMMARY:SASA Girl Swimming
DESCRIPTION:Clara Wagner – Swimming Head Coach \n\nSaginaw Arts and Sciences Academy\n3115 Mackinaw St\nSaginaw\, MI 48602\nOffice (989) 399-5500\n\nThe Saginaw Arts and Sciences Academy (SASA) has been expanding and enhancing learning opportunities for gifted/talented students in the Tri-County area since 1981. During its history\, initially as the Center for the Arts and Sciences (C.A.S.) and since 1999 as the Saginaw Arts & Sciences Academy\, it has earned a national reputation for excellence.
URL:https://saginawymca.org/event/sasa-girl-swimming-3/2025-08-17/
LOCATION:Saginaw YMCA: Deep Pool\, 1915 Fordney St\, Saginaw\, MI\, 48601\, United States
CATEGORIES:Aquatics
ORGANIZER;CN="SASA Athletics":MAILTO:jbarnes@spsd.net
END:VEVENT
BEGIN:VEVENT
DTSTART;TZID=America/Detroit:20250815T163000
DTEND;TZID=America/Detroit:20250815T183000
DTSTAMP:20260425T094419
CREATED:20250805T184112Z
LAST-MODIFIED:20250812T181429Z
UID:10000617-1755275400-1755282600@saginawymca.org
SUMMARY:SASA Girl Swimming
DESCRIPTION:Clara Wagner – Swimming Head Coach \n\nSaginaw Arts and Sciences Academy\n3115 Mackinaw St\nSaginaw\, MI 48602\nOffice (989) 399-5500\n\nThe Saginaw Arts and Sciences Academy (SASA) has been expanding and enhancing learning opportunities for gifted/talented students in the Tri-County area since 1981. During its history\, initially as the Center for the Arts and Sciences (C.A.S.) and since 1999 as the Saginaw Arts & Sciences Academy\, it has earned a national reputation for excellence.
URL:https://saginawymca.org/event/sasa-girl-swimming-2/2025-08-15/
LOCATION:Saginaw YMCA: Deep Pool\, 1915 Fordney St\, Saginaw\, MI\, 48601\, United States
CATEGORIES:Aquatics
ORGANIZER;CN="SASA Athletics":MAILTO:jbarnes@spsd.net
END:VEVENT
BEGIN:VEVENT
DTSTART;TZID=America/Detroit:20250812T163000
DTEND;TZID=America/Detroit:20250812T183000
DTSTAMP:20260425T094419
CREATED:20250805T184036Z
LAST-MODIFIED:20250805T184036Z
UID:10000587-1755016200-1755023400@saginawymca.org
SUMMARY:SASA Girl Swimming
DESCRIPTION:Clara Wagner – Swimming Head Coach \n\nSaginaw Arts and Sciences Academy\n3115 Mackinaw St\nSaginaw\, MI 48602\nOffice (989) 399-5500\n\nThe Saginaw Arts and Sciences Academy (SASA) has been expanding and enhancing learning opportunities for gifted/talented students in the Tri-County area since 1981. During its history\, initially as the Center for the Arts and Sciences (C.A.S.) and since 1999 as the Saginaw Arts & Sciences Academy\, it has earned a national reputation for excellence.
URL:https://saginawymca.org/event/sasa-girl-swimming/2025-08-12/
LOCATION:Saginaw YMCA: Deep Pool\, 1915 Fordney St\, Saginaw\, MI\, 48601\, United States
CATEGORIES:Aquatics
ORGANIZER;CN="SASA Athletics":MAILTO:jbarnes@spsd.net
END:VEVENT
END:VCALENDAR