BEGIN:VCALENDAR
VERSION:2.0
PRODID:-//Saginaw YMCA - ECPv6.15.20//NONSGML v1.0//EN
CALSCALE:GREGORIAN
METHOD:PUBLISH
X-WR-CALNAME:Saginaw YMCA
X-ORIGINAL-URL:https://saginawymca.org
X-WR-CALDESC:Events for Saginaw YMCA
REFRESH-INTERVAL;VALUE=DURATION:PT1H
X-Robots-Tag:noindex
X-PUBLISHED-TTL:PT1H
BEGIN:VTIMEZONE
TZID:America/Detroit
BEGIN:DAYLIGHT
TZOFFSETFROM:-0500
TZOFFSETTO:-0400
TZNAME:EDT
DTSTART:20240310T070000
END:DAYLIGHT
BEGIN:STANDARD
TZOFFSETFROM:-0400
TZOFFSETTO:-0500
TZNAME:EST
DTSTART:20241103T060000
END:STANDARD
BEGIN:DAYLIGHT
TZOFFSETFROM:-0500
TZOFFSETTO:-0400
TZNAME:EDT
DTSTART:20250309T070000
END:DAYLIGHT
BEGIN:STANDARD
TZOFFSETFROM:-0400
TZOFFSETTO:-0500
TZNAME:EST
DTSTART:20251102T060000
END:STANDARD
BEGIN:DAYLIGHT
TZOFFSETFROM:-0500
TZOFFSETTO:-0400
TZNAME:EDT
DTSTART:20260308T070000
END:DAYLIGHT
BEGIN:STANDARD
TZOFFSETFROM:-0400
TZOFFSETTO:-0500
TZNAME:EST
DTSTART:20261101T060000
END:STANDARD
END:VTIMEZONE
BEGIN:VTIMEZONE
TZID:UTC
BEGIN:STANDARD
TZOFFSETFROM:+0000
TZOFFSETTO:+0000
TZNAME:UTC
DTSTART:20240101T000000
END:STANDARD
END:VTIMEZONE
BEGIN:VEVENT
DTSTART;TZID=America/Detroit:20250804T080000
DTEND;TZID=America/Detroit:20250808T113000
DTSTAMP:20260419T084756
CREATED:20250507T132819Z
LAST-MODIFIED:20250509T170336Z
UID:10000210-1754294400-1754652600@saginawymca.org
SUMMARY:Summer Day Camp Morning Session
DESCRIPTION:Register here\, registration is required.\n\nCost per session:\nMembers – $125\nGuests – $150\n\n\nUnleash your child’s creativity and curiosity this summer with our action-packed\, educational\, and fun-filled camps at the YMCA of Saginaw! Each week\, your child will explore different exciting themes\, from science and engineering to art and music\, while staying active with gym time and swim sessions. Our experienced staff ensures a safe\, supportive\, and engaging environment where every child can grow\, learn\, and make lasting memories.
URL:https://saginawymca.org/event/summer-day-camp-morning-session-7/
LOCATION:Saginaw YMCA\, 1915 Fordney St\, Saginaw\, MI\, 48601\, United States
CATEGORIES:Childcare,Youth
END:VEVENT
BEGIN:VEVENT
DTSTART;TZID=America/Detroit:20250802T100000
DTEND;TZID=America/Detroit:20250802T120000
DTSTAMP:20260419T084756
CREATED:20250114T023749Z
LAST-MODIFIED:20250730T130524Z
UID:10000059-1754128800-1754136000@saginawymca.org
SUMMARY:08/02/25  Back to School Event
DESCRIPTION:The Saginaw Y provides free backpacks\, school supplies\, and more for youth in our community. *All supplies and backpacks are limited and are on a first come\, first served basis*
URL:https://saginawymca.org/event/8-02-2025-backpack-giveaway/
LOCATION:Saginaw YMCA: Lawn\, 1915 Fordney St\, Saginaw\, MI\, 48601\, United States
CATEGORIES:Community,Youth
END:VEVENT
BEGIN:VEVENT
DTSTART;TZID=America/Detroit:20250728T120000
DTEND;TZID=America/Detroit:20250801T153000
DTSTAMP:20260419T084756
CREATED:20250507T133452Z
LAST-MODIFIED:20250509T170120Z
UID:10000215-1753704000-1754062200@saginawymca.org
SUMMARY:Summer Day Camp Afternoon Session
DESCRIPTION:Register here\, registration is required.\n\nCost per session:\nMembers – $125\nGuests – $150\n\n\nUnleash your child’s creativity and curiosity this summer with our action-packed\, educational\, and fun-filled camps at the YMCA of Saginaw! Each week\, your child will explore different exciting themes\, from science and engineering to art and music\, while staying active with gym time and swim sessions. Our experienced staff ensures a safe\, supportive\, and engaging environment where every child can grow\, learn\, and make lasting memories.
URL:https://saginawymca.org/event/summer-day-camp-afternoon-session-3/
LOCATION:Saginaw YMCA\, 1915 Fordney St\, Saginaw\, MI\, 48601\, United States
CATEGORIES:Childcare,Youth
END:VEVENT
BEGIN:VEVENT
DTSTART;TZID=America/Detroit:20250728T080000
DTEND;TZID=America/Detroit:20250801T113000
DTSTAMP:20260419T084756
CREATED:20250507T132709Z
LAST-MODIFIED:20250507T132709Z
UID:10000209-1753689600-1754047800@saginawymca.org
SUMMARY:Summer Day Camp Morning Session
DESCRIPTION:Register here\, registration is required.\nCost per session: $125\nCost per month: $150\n\nUnleash your child’s creativity and curiosity this summer with our action-packed\, educational\, and fun-filled camps at the YMCA of Saginaw! Each week\, your child will explore different exciting themes\, from science and engineering to art and music\, while staying active with gym time and swim sessions. Our experienced staff ensures a safe\, supportive\, and engaging environment where every child can grow\, learn\, and make lasting memories.
URL:https://saginawymca.org/event/summer-day-camp-morning-session-6/
LOCATION:Saginaw YMCA\, 1915 Fordney St\, Saginaw\, MI\, 48601\, United States
CATEGORIES:Childcare,Youth
END:VEVENT
BEGIN:VEVENT
DTSTART;TZID=America/Detroit:20250721T120000
DTEND;TZID=America/Detroit:20250725T153000
DTSTAMP:20260419T084756
CREATED:20250507T133307Z
LAST-MODIFIED:20250509T170130Z
UID:10000213-1753099200-1753457400@saginawymca.org
SUMMARY:Summer Day Camp Afternoon Session
DESCRIPTION:Register here\, registration is required.\n\nCost per session:\nMembers – $125\nGuests – $150\n\n\nUnleash your child’s creativity and curiosity this summer with our action-packed\, educational\, and fun-filled camps at the YMCA of Saginaw! Each week\, your child will explore different exciting themes\, from science and engineering to art and music\, while staying active with gym time and swim sessions. Our experienced staff ensures a safe\, supportive\, and engaging environment where every child can grow\, learn\, and make lasting memories.
URL:https://saginawymca.org/event/summer-day-camp-afternoon-session/
LOCATION:Saginaw YMCA\, 1915 Fordney St\, Saginaw\, MI\, 48601\, United States
CATEGORIES:Childcare,Youth
END:VEVENT
BEGIN:VEVENT
DTSTART;TZID=America/Detroit:20250721T080000
DTEND;TZID=America/Detroit:20250725T113000
DTSTAMP:20260419T084756
CREATED:20250507T132611Z
LAST-MODIFIED:20250509T170400Z
UID:10000208-1753084800-1753443000@saginawymca.org
SUMMARY:Summer Day Camp Morning Session
DESCRIPTION:Register here\, registration is required.\n\nCost per session:\nMembers – $125\nGuests – $150\n\n\nUnleash your child’s creativity and curiosity this summer with our action-packed\, educational\, and fun-filled camps at the YMCA of Saginaw! Each week\, your child will explore different exciting themes\, from science and engineering to art and music\, while staying active with gym time and swim sessions. Our experienced staff ensures a safe\, supportive\, and engaging environment where every child can grow\, learn\, and make lasting memories.
URL:https://saginawymca.org/event/summer-day-camp-morning-session-5/
LOCATION:Saginaw YMCA\, 1915 Fordney St\, Saginaw\, MI\, 48601\, United States
CATEGORIES:Childcare,Youth
END:VEVENT
BEGIN:VEVENT
DTSTART;TZID=America/Detroit:20250719T140000
DTEND;TZID=America/Detroit:20250719T200000
DTSTAMP:20260419T084756
CREATED:20250114T015444Z
LAST-MODIFIED:20250114T015444Z
UID:10000052-1752933600-1752955200@saginawymca.org
SUMMARY:Parents' Night Out
DESCRIPTION:A time for children to explore the Y through activities\, gym\, swim\, food\, and more.
URL:https://saginawymca.org/event/parents-night-out-9/
LOCATION:Saginaw YMCA\, 1915 Fordney St\, Saginaw\, MI\, 48601\, United States
CATEGORIES:Childcare,Parents Night Out,Youth
END:VEVENT
BEGIN:VEVENT
DTSTART;VALUE=DATE:20250719
DTEND;VALUE=DATE:20250720
DTSTAMP:20260419T084756
CREATED:20250113T232824Z
LAST-MODIFIED:20250114T020751Z
UID:10000018-1752883200-1752969599@saginawymca.org
SUMMARY:Summer Swim Carnival
DESCRIPTION:
URL:https://saginawymca.org/event/summer-swim-carnival/
LOCATION:Saginaw YMCA: Pool\, 1915 Fordney St\, Saginaw\, MI\, 48601\, United States
CATEGORIES:Aquatics
END:VEVENT
BEGIN:VEVENT
DTSTART;TZID=America/Detroit:20250714T120000
DTEND;TZID=America/Detroit:20250718T153000
DTSTAMP:20260419T084756
CREATED:20250507T133743Z
LAST-MODIFIED:20250509T170051Z
UID:10000216-1752494400-1752852600@saginawymca.org
SUMMARY:Summer Day Camp Afternoon Session
DESCRIPTION:Register here\, registration is required.\n\nCost per session:\nMembers – $125\nGuests – $150\n\n\nUnleash your child’s creativity and curiosity this summer with our action-packed\, educational\, and fun-filled camps at the YMCA of Saginaw! Each week\, your child will explore different exciting themes\, from science and engineering to art and music\, while staying active with gym time and swim sessions. Our experienced staff ensures a safe\, supportive\, and engaging environment where every child can grow\, learn\, and make lasting memories.
URL:https://saginawymca.org/event/summer-day-camp-afternoon-session-4/
LOCATION:Saginaw YMCA\, 1915 Fordney St\, Saginaw\, MI\, 48601\, United States
CATEGORIES:Childcare,Youth
END:VEVENT
BEGIN:VEVENT
DTSTART;TZID=America/Detroit:20250714T080000
DTEND;TZID=America/Detroit:20250718T113000
DTSTAMP:20260419T084756
CREATED:20250507T132416Z
LAST-MODIFIED:20250509T170410Z
UID:10000207-1752480000-1752838200@saginawymca.org
SUMMARY:Summer Day Camp Morning Session
DESCRIPTION:Register here\, registration is required.\n\nCost per session:\nMembers – $125\nGuests – $150\n\n\nUnleash your child’s creativity and curiosity this summer with our action-packed\, educational\, and fun-filled camps at the YMCA of Saginaw! Each week\, your child will explore different exciting themes\, from science and engineering to art and music\, while staying active with gym time and swim sessions. Our experienced staff ensures a safe\, supportive\, and engaging environment where every child can grow\, learn\, and make lasting memories.
URL:https://saginawymca.org/event/summer-day-camp-morning-session-4/
LOCATION:Saginaw YMCA\, 1915 Fordney St\, Saginaw\, MI\, 48601\, United States
CATEGORIES:Childcare,Youth
END:VEVENT
BEGIN:VEVENT
DTSTART;TZID=America/Detroit:20250710T090000
DTEND;TZID=America/Detroit:20250710T100000
DTSTAMP:20260419T084756
CREATED:20250113T201718Z
LAST-MODIFIED:20250113T201718Z
UID:10000044-1752138000-1752141600@saginawymca.org
SUMMARY:Power Up
DESCRIPTION:
URL:https://saginawymca.org/event/power-up-7/
LOCATION:Saginaw YMCA: Youth Gym\, 1915 Fordney St\, Saginaw\, MI\, 48601\, United States
CATEGORIES:Group Exercise
END:VEVENT
BEGIN:VEVENT
DTSTART;TZID=America/Detroit:20250707T120000
DTEND;TZID=America/Detroit:20250711T153000
DTSTAMP:20260419T084756
CREATED:20250507T133830Z
LAST-MODIFIED:20250509T165415Z
UID:10000217-1751889600-1752247800@saginawymca.org
SUMMARY:Summer Day Camp Afternoon Session
DESCRIPTION:Register here\, registration is required.\nCost per session:\nMembers – $125\nGuests – $150\n\nUnleash your child’s creativity and curiosity this summer with our action-packed\, educational\, and fun-filled camps at the YMCA of Saginaw! Each week\, your child will explore different exciting themes\, from science and engineering to art and music\, while staying active with gym time and swim sessions. Our experienced staff ensures a safe\, supportive\, and engaging environment where every child can grow\, learn\, and make lasting memories.
URL:https://saginawymca.org/event/summer-day-camp-afternoon-session-5/
LOCATION:Saginaw YMCA\, 1915 Fordney St\, Saginaw\, MI\, 48601\, United States
CATEGORIES:Childcare,Youth
END:VEVENT
BEGIN:VEVENT
DTSTART;TZID=America/Detroit:20250707T080000
DTEND;TZID=America/Detroit:20250711T113000
DTSTAMP:20260419T084756
CREATED:20250507T132316Z
LAST-MODIFIED:20250509T170419Z
UID:10000206-1751875200-1752233400@saginawymca.org
SUMMARY:Summer Day Camp Morning Session
DESCRIPTION:Register here\, registration is required.\n\nCost per session:\nMembers – $125\nGuests – $150\n\n\nUnleash your child’s creativity and curiosity this summer with our action-packed\, educational\, and fun-filled camps at the YMCA of Saginaw! Each week\, your child will explore different exciting themes\, from science and engineering to art and music\, while staying active with gym time and swim sessions. Our experienced staff ensures a safe\, supportive\, and engaging environment where every child can grow\, learn\, and make lasting memories.
URL:https://saginawymca.org/event/summer-day-camp-morning-session-3/
LOCATION:Saginaw YMCA\, 1915 Fordney St\, Saginaw\, MI\, 48601\, United States
CATEGORIES:Childcare,Youth
END:VEVENT
BEGIN:VEVENT
DTSTART;VALUE=DATE:20250704
DTEND;VALUE=DATE:20250705
DTSTAMP:20260419T084756
CREATED:20250114T024106Z
LAST-MODIFIED:20250114T024106Z
UID:10000061-1751587200-1751673599@saginawymca.org
SUMMARY:Saginaw YMCA CLOSED
DESCRIPTION:4th of July
URL:https://saginawymca.org/event/saginaw-ymca-closed-3/
LOCATION:Saginaw YMCA\, 1915 Fordney St\, Saginaw\, MI\, 48601\, United States
CATEGORIES:Aquatics,Childcare,Community,Group Ex Classes,Group Exercise,Mission Nutrition,Parents Night Out,Seniors,Veterans,Youth
END:VEVENT
BEGIN:VEVENT
DTSTART;TZID=America/Detroit:20250623T120000
DTEND;TZID=America/Detroit:20250627T153000
DTSTAMP:20260419T084756
CREATED:20250507T133921Z
LAST-MODIFIED:20250509T170022Z
UID:10000218-1750680000-1751038200@saginawymca.org
SUMMARY:Summer Day Camp Afternoon Session
DESCRIPTION:Register here\, registration is required.\n\nCost per session:\nMembers – $125\nGuests – $150\n\n\nUnleash your child’s creativity and curiosity this summer with our action-packed\, educational\, and fun-filled camps at the YMCA of Saginaw! Each week\, your child will explore different exciting themes\, from science and engineering to art and music\, while staying active with gym time and swim sessions. Our experienced staff ensures a safe\, supportive\, and engaging environment where every child can grow\, learn\, and make lasting memories.
URL:https://saginawymca.org/event/summer-day-camp-afternoon-session-6/
LOCATION:Saginaw YMCA\, 1915 Fordney St\, Saginaw\, MI\, 48601\, United States
CATEGORIES:Childcare,Youth
END:VEVENT
BEGIN:VEVENT
DTSTART;TZID=America/Detroit:20250623T080000
DTEND;TZID=America/Detroit:20250627T113000
DTSTAMP:20260419T084756
CREATED:20250507T132220Z
LAST-MODIFIED:20250626T180558Z
UID:10000205-1750665600-1751023800@saginawymca.org
SUMMARY:Summer Day Camp Morning Session
DESCRIPTION:Register here\, registration is required.\nCost per session: $125\nCost per month: $150\n\nUnleash your child’s creativity and curiosity this summer with our action-packed\, educational\, and fun-filled camps at the YMCA of Saginaw! Each week\, your child will explore different exciting themes\, from science and engineering to art and music\, while staying active with gym time and swim sessions. Our experienced staff ensures a safe\, supportive\, and engaging environment where every child can grow\, learn\, and make lasting memories.
URL:https://saginawymca.org/event/summer-day-camp-morning-session-2/
LOCATION:Saginaw YMCA\, 1915 Fordney St\, Saginaw\, MI\, 48601\, United States
CATEGORIES:Childcare,Youth
END:VEVENT
BEGIN:VEVENT
DTSTART;TZID=America/Detroit:20250621T140000
DTEND;TZID=America/Detroit:20250621T200000
DTSTAMP:20260419T084756
CREATED:20250114T015350Z
LAST-MODIFIED:20250114T015350Z
UID:10000051-1750514400-1750536000@saginawymca.org
SUMMARY:Parents' Night Out
DESCRIPTION:A time for children to explore the Y through activities\, gym\, swim\, food\, and more.
URL:https://saginawymca.org/event/parents-night-out-8/
LOCATION:Saginaw YMCA\, 1915 Fordney St\, Saginaw\, MI\, 48601\, United States
CATEGORIES:Childcare,Parents Night Out,Youth
END:VEVENT
BEGIN:VEVENT
DTSTART;TZID=America/Detroit:20250621T100000
DTEND;TZID=America/Detroit:20250621T150000
DTSTAMP:20260419T084756
CREATED:20250114T031056Z
LAST-MODIFIED:20250114T031056Z
UID:10000087-1750500000-1750518000@saginawymca.org
SUMMARY:Natural Health and Beauty Expo
DESCRIPTION:
URL:https://saginawymca.org/event/natural-health-and-beauty-expo/
LOCATION:Saginaw YMCA: Fieldhouse Gym\, 1915 Fordney St\, Saginaw\, MI\, 48601\, United States
CATEGORIES:Community
END:VEVENT
BEGIN:VEVENT
DTSTART;TZID=America/Detroit:20250616T120000
DTEND;TZID=America/Detroit:20250620T153000
DTSTAMP:20260419T084756
CREATED:20250507T134007Z
LAST-MODIFIED:20250509T165756Z
UID:10000219-1750075200-1750433400@saginawymca.org
SUMMARY:Summer Day Camp Afternoon Session
DESCRIPTION:Register here\, registration is required.\n\nCost per session:\nMembers – $125\nGuests – $150\n\n\nUnleash your child’s creativity and curiosity this summer with our action-packed\, educational\, and fun-filled camps at the YMCA of Saginaw! Each week\, your child will explore different exciting themes\, from science and engineering to art and music\, while staying active with gym time and swim sessions. Our experienced staff ensures a safe\, supportive\, and engaging environment where every child can grow\, learn\, and make lasting memories.
URL:https://saginawymca.org/event/summer-day-camp-afternoon-session-7/
LOCATION:Saginaw YMCA\, 1915 Fordney St\, Saginaw\, MI\, 48601\, United States
CATEGORIES:Childcare,Youth
END:VEVENT
BEGIN:VEVENT
DTSTART;TZID=America/Detroit:20250616T080000
DTEND;TZID=America/Detroit:20250620T113000
DTSTAMP:20260419T084756
CREATED:20250507T131906Z
LAST-MODIFIED:20250519T210819Z
UID:10000204-1750060800-1750419000@saginawymca.org
SUMMARY:Summer Day Camp Morning Session
DESCRIPTION:Register here\, registration is required.\n\nCost per session:\nMembers – $125\nGuests – $150\n\n\nUnleash your child’s creativity and curiosity this summer with our action-packed\, educational\, and fun-filled camps at the YMCA of Saginaw! Each week\, your child will explore different exciting themes\, from science and engineering to art and music\, while staying active with gym time and swim sessions. Our experienced staff ensures a safe\, supportive\, and engaging environment where every child can grow\, learn\, and make lasting memories.
URL:https://saginawymca.org/event/summer-day-camp-morning-session/
LOCATION:Saginaw YMCA\, 1915 Fordney St\, Saginaw\, MI\, 48601\, United States
CATEGORIES:Childcare,Youth
END:VEVENT
BEGIN:VEVENT
DTSTART;TZID=America/Detroit:20250607T120000
DTEND;TZID=America/Detroit:20250607T150000
DTSTAMP:20260419T084756
CREATED:20250408T161002Z
LAST-MODIFIED:20250603T203040Z
UID:10000203-1749297600-1749308400@saginawymca.org
SUMMARY:6/07/2025  Youth Triathlon
DESCRIPTION:Youth age 7+ can Run-Bike-Swim at the June 7th Youth Triathlon at the Saginaw YMCA\, held in conjunction with our 2 day Community Days event!
URL:https://saginawymca.org/event/6-07-2025-youth-triathlon/
LOCATION:Saginaw YMCA\, 1915 Fordney St\, Saginaw\, MI\, 48601\, United States
CATEGORIES:Community,Wellness,Youth
END:VEVENT
BEGIN:VEVENT
DTSTART;TZID=America/Detroit:20250605T090000
DTEND;TZID=America/Detroit:20250605T100000
DTSTAMP:20260419T084756
CREATED:20250113T201642Z
LAST-MODIFIED:20250113T201642Z
UID:10000043-1749114000-1749117600@saginawymca.org
SUMMARY:Power Up
DESCRIPTION:
URL:https://saginawymca.org/event/power-up-6/
LOCATION:Saginaw YMCA: Youth Gym\, 1915 Fordney St\, Saginaw\, MI\, 48601\, United States
CATEGORIES:Group Exercise
END:VEVENT
BEGIN:VEVENT
DTSTART;TZID=America/Detroit:20250603T180000
DTEND;TZID=America/Detroit:20250603T190000
DTSTAMP:20260419T084756
CREATED:20250529T154854Z
LAST-MODIFIED:20250529T154854Z
UID:10000220-1748973600-1748977200@saginawymca.org
SUMMARY:USMS - Skills & Drills
DESCRIPTION:LAP SWIM – SKILLS & DRILLS (1) Lap Swim Skills & Drills is a new session offered to our current Lap Swimmers and US Master Swimmers that would like to improve their skills\, learn new drills\, and swim with other YMCA Lap Swimmers. – Registration cost is for the whole 3-Months.. Signed up once and drop in on Tuesdays. Come to one.. Come to some.. Come to all – Skills & Drills is an open concept session. (Must already be swimming and able to complete a minimum of 50 yards freestyle without stopping or grabbing the wall – Available for 20+ Years Old) \n\n\nAdditional Information\n\n\nRegistration cost is for the whole 3-Months.. Signed up once and drop in on Tuesdays. Come to one.. Come to some.. Come to all – Skills & Drills is an open concept session. (Must already be swimming and able to complete a minimum of 50 yards freestyle without stopping or grabbing the wall – Available for 20+ Years Old)\n\nClick Link Below (Event URL) to Register or Contact the Front Desk
URL:https://saginawymca.org/event/usms-skills-drills/
LOCATION:Saginaw YMCA: Deep Pool\, 1915 Fordney St\, Saginaw\, MI\, 48601\, United States
CATEGORIES:Aquatics
END:VEVENT
BEGIN:VEVENT
DTSTART;TZID=America/Detroit:20250528T170000
DTEND;TZID=America/Detroit:20250528T190000
DTSTAMP:20260419T084756
CREATED:20250307T170056Z
LAST-MODIFIED:20250312T133323Z
UID:10000197-1748451600-1748458800@saginawymca.org
SUMMARY:STEM Club
DESCRIPTION:Register here\, registration is required.\nCost per session: $8\nCost per month: $45\n\nJoin us at the Wildlife Club\, where we explore the wonders of nature through plants\, animals\, and gardens. Engage in fun physical activities while learning about endangered animals and their habitats. Our club encourages creativity and art\, allowing you to express your love for nature in unique ways. Discover the beauty of the world around us and gain a deeper understanding of the environment. Whether you’re planting a garden or creating art inspired by wildlife\, there’s something for everyone. Together\, we can make a difference and learn how to protect our planet for future generations.
URL:https://saginawymca.org/event/stem-club-28/
LOCATION:Saginaw YMCA: Triangle Room\, 1915 Fordney St\, Saginaw\, MI\, 48601\, United States
CATEGORIES:Childcare,Youth
END:VEVENT
BEGIN:VEVENT
DTSTART;VALUE=DATE:20250527
DTEND;VALUE=DATE:20250630
DTSTAMP:20260419T084756
CREATED:20250113T232632Z
LAST-MODIFIED:20250114T020736Z
UID:10000016-1748304000-1751241599@saginawymca.org
SUMMARY:Spring Swim Session 2
DESCRIPTION:
URL:https://saginawymca.org/event/spring-swim-session-2/
LOCATION:Saginaw YMCA: Pool\, 1915 Fordney St\, Saginaw\, MI\, 48601\, United States
CATEGORIES:Aquatics
END:VEVENT
BEGIN:VEVENT
DTSTART;VALUE=DATE:20250526
DTEND;VALUE=DATE:20250527
DTSTAMP:20260419T084756
CREATED:20250114T023957Z
LAST-MODIFIED:20250114T023957Z
UID:10000060-1748217600-1748303999@saginawymca.org
SUMMARY:Saginaw YMCA CLOSED
DESCRIPTION:Closed for Memorial Day
URL:https://saginawymca.org/event/saginaw-ymca-closed-2/
LOCATION:Saginaw YMCA\, 1915 Fordney St\, Saginaw\, MI\, 48601\, United States
CATEGORIES:Aquatics,Childcare,Community,Group Ex Classes,Group Exercise,Mission Nutrition,Parents Night Out,Seniors,Veterans,Youth
END:VEVENT
BEGIN:VEVENT
DTSTART;TZID=America/Detroit:20250521T170000
DTEND;TZID=America/Detroit:20250521T190000
DTSTAMP:20260419T084756
CREATED:20250307T165728Z
LAST-MODIFIED:20250307T165728Z
UID:10000196-1747846800-1747854000@saginawymca.org
SUMMARY:STEM Club
DESCRIPTION:Register here\, registration is required.\nCost per session: $8\nCost per month: $45\n\nJoin us at the Wildlife Club\, where we explore the wonders of nature through plants\, animals\, and gardens. Engage in fun physical activities while learning about endangered animals and their habitats. Our club encourages creativity and art\, allowing you to express your love for nature in unique ways. Discover the beauty of the world around us and gain a deeper understanding of the environment. Whether you’re planting a garden or creating art inspired by wildlife\, there’s something for everyone. Together\, we can make a difference and learn how to protect our planet for future generations.
URL:https://saginawymca.org/event/stem-club-27/
LOCATION:Saginaw YMCA: Triangle Room\, 1915 Fordney St\, Saginaw\, MI\, 48601\, United States
CATEGORIES:Childcare,Youth
END:VEVENT
BEGIN:VEVENT
DTSTART;TZID=America/Detroit:20250519T170000
DTEND;TZID=America/Detroit:20250519T190000
DTSTAMP:20260419T084756
CREATED:20250307T165631Z
LAST-MODIFIED:20250307T165631Z
UID:10000195-1747674000-1747681200@saginawymca.org
SUMMARY:STEM Club
DESCRIPTION:Register here\, registration is required.\nCost per session: $8\nCost per month: $45\n\nJoin us at the Wildlife Club\, where we explore the wonders of nature through plants\, animals\, and gardens. Engage in fun physical activities while learning about endangered animals and their habitats. Our club encourages creativity and art\, allowing you to express your love for nature in unique ways. Discover the beauty of the world around us and gain a deeper understanding of the environment. Whether you’re planting a garden or creating art inspired by wildlife\, there’s something for everyone. Together\, we can make a difference and learn how to protect our planet for future generations.
URL:https://saginawymca.org/event/stem-club-26/
LOCATION:Saginaw YMCA: Triangle Room\, 1915 Fordney St\, Saginaw\, MI\, 48601\, United States
CATEGORIES:Childcare,Youth
END:VEVENT
BEGIN:VEVENT
DTSTART;TZID=America/Detroit:20250517T140000
DTEND;TZID=America/Detroit:20250517T200000
DTSTAMP:20260419T084756
CREATED:20250114T015259Z
LAST-MODIFIED:20250114T015259Z
UID:10000050-1747490400-1747512000@saginawymca.org
SUMMARY:Parents' Night Out
DESCRIPTION:A time for children to explore the Y through activities\, gym\, swim\, food\, and more.
URL:https://saginawymca.org/event/parents-night-out-7/
LOCATION:Saginaw YMCA\, 1915 Fordney St\, Saginaw\, MI\, 48601\, United States
CATEGORIES:Childcare,Parents Night Out,Youth
END:VEVENT
BEGIN:VEVENT
DTSTART;TZID=America/Detroit:20250515T050000
DTEND;TZID=America/Detroit:20250515T140000
DTSTAMP:20260419T084756
CREATED:20250113T201021Z
LAST-MODIFIED:20250113T201021Z
UID:10000037-1747285200-1747317600@saginawymca.org
SUMMARY:Spring Into Service at Y
DESCRIPTION:
URL:https://saginawymca.org/event/spring-into-service-at-y/
LOCATION:Saginaw YMCA: Fieldhouse Gym\, 1915 Fordney St\, Saginaw\, MI\, 48601\, United States
CATEGORIES:Community
END:VEVENT
END:VCALENDAR