BEGIN:VCALENDAR
VERSION:2.0
PRODID:-//Saginaw YMCA - ECPv6.15.20//NONSGML v1.0//EN
CALSCALE:GREGORIAN
METHOD:PUBLISH
X-ORIGINAL-URL:https://saginawymca.org
X-WR-CALDESC:Events for Saginaw YMCA
REFRESH-INTERVAL;VALUE=DURATION:PT1H
X-Robots-Tag:noindex
X-PUBLISHED-TTL:PT1H
BEGIN:VTIMEZONE
TZID:America/Detroit
BEGIN:DAYLIGHT
TZOFFSETFROM:-0500
TZOFFSETTO:-0400
TZNAME:EDT
DTSTART:20290311T070000
END:DAYLIGHT
BEGIN:STANDARD
TZOFFSETFROM:-0400
TZOFFSETTO:-0500
TZNAME:EST
DTSTART:20291104T060000
END:STANDARD
BEGIN:DAYLIGHT
TZOFFSETFROM:-0500
TZOFFSETTO:-0400
TZNAME:EDT
DTSTART:20300310T070000
END:DAYLIGHT
BEGIN:STANDARD
TZOFFSETFROM:-0400
TZOFFSETTO:-0500
TZNAME:EST
DTSTART:20301103T060000
END:STANDARD
BEGIN:DAYLIGHT
TZOFFSETFROM:-0500
TZOFFSETTO:-0400
TZNAME:EDT
DTSTART:20310309T070000
END:DAYLIGHT
BEGIN:STANDARD
TZOFFSETFROM:-0400
TZOFFSETTO:-0500
TZNAME:EST
DTSTART:20311102T060000
END:STANDARD
BEGIN:DAYLIGHT
TZOFFSETFROM:-0500
TZOFFSETTO:-0400
TZNAME:EDT
DTSTART:20320314T070000
END:DAYLIGHT
BEGIN:STANDARD
TZOFFSETFROM:-0400
TZOFFSETTO:-0500
TZNAME:EST
DTSTART:20321107T060000
END:STANDARD
END:VTIMEZONE
BEGIN:VEVENT
DTSTART;TZID=America/Detroit:20301128T170000
DTEND;TZID=America/Detroit:20301128T200000
DTSTAMP:20260421T220034
CREATED:20260417T173423Z
LAST-MODIFIED:20260417T173616Z
UID:10004481-1922115600-1922126400@saginawymca.org
SUMMARY:KidZone
DESCRIPTION:While parents enjoy their workout or participate in classes\, they can relax knowing their children are in great hands. \nY-Members $1 \nNon Y-Members $5 \nRegister Here!
URL:https://saginawymca.org/event/kidzone-3/2030-11-28/
LOCATION:Saginaw YMCA\, 1915 Fordney St\, Saginaw\, MI\, 48601\, United States
CATEGORIES:Childcare,Parents Night Out,Youth
END:VEVENT
BEGIN:VEVENT
DTSTART;TZID=America/Detroit:20301130T090000
DTEND;TZID=America/Detroit:20301130T120000
DTSTAMP:20260421T220034
CREATED:20260417T173033Z
LAST-MODIFIED:20260417T173033Z
UID:10002134-1922259600-1922270400@saginawymca.org
SUMMARY:KidZone
DESCRIPTION:While parents enjoy their workout or participate in classes\, they can relax knowing their children are in great hands. \nY-Members $1 \nNon Y-Members $5 \nRegister Here!
URL:https://saginawymca.org/event/kid-zone-at-the-saginaw-ymca/2030-11-30/
LOCATION:Saginaw YMCA\, 1915 Fordney St\, Saginaw\, MI\, 48601\, United States
CATEGORIES:Childcare,Parents Night Out,Youth
END:VEVENT
BEGIN:VEVENT
DTSTART;TZID=America/Detroit:20301202T170000
DTEND;TZID=America/Detroit:20301202T200000
DTSTAMP:20260421T220034
CREATED:20260417T173208Z
LAST-MODIFIED:20260417T173512Z
UID:10003960-1922461200-1922472000@saginawymca.org
SUMMARY:KidZone
DESCRIPTION:While parents enjoy their workout or participate in classes\, they can relax knowing their children are in great hands. \nY-Members $1 \nNon Y-Members $5 \nRegister Here!
URL:https://saginawymca.org/event/kidzone/2030-12-02/
LOCATION:Saginaw YMCA\, 1915 Fordney St\, Saginaw\, MI\, 48601\, United States
CATEGORIES:Childcare,Parents Night Out,Youth
END:VEVENT
BEGIN:VEVENT
DTSTART;TZID=America/Detroit:20301204T170000
DTEND;TZID=America/Detroit:20301204T200000
DTSTAMP:20260421T220034
CREATED:20260417T173353Z
LAST-MODIFIED:20260417T173551Z
UID:10004221-1922634000-1922644800@saginawymca.org
SUMMARY:KidZone
DESCRIPTION:While parents enjoy their workout or participate in classes\, they can relax knowing their children are in great hands. \nY-Members $1 \nNon Y-Members $5 \nRegister Here!
URL:https://saginawymca.org/event/kidzone-2/2030-12-04/
LOCATION:Saginaw YMCA\, 1915 Fordney St\, Saginaw\, MI\, 48601\, United States
CATEGORIES:Childcare,Parents Night Out,Youth
END:VEVENT
BEGIN:VEVENT
DTSTART;TZID=America/Detroit:20301205T170000
DTEND;TZID=America/Detroit:20301205T200000
DTSTAMP:20260421T220034
CREATED:20260417T173423Z
LAST-MODIFIED:20260417T173616Z
UID:10004482-1922720400-1922731200@saginawymca.org
SUMMARY:KidZone
DESCRIPTION:While parents enjoy their workout or participate in classes\, they can relax knowing their children are in great hands. \nY-Members $1 \nNon Y-Members $5 \nRegister Here!
URL:https://saginawymca.org/event/kidzone-3/2030-12-05/
LOCATION:Saginaw YMCA\, 1915 Fordney St\, Saginaw\, MI\, 48601\, United States
CATEGORIES:Childcare,Parents Night Out,Youth
END:VEVENT
BEGIN:VEVENT
DTSTART;TZID=America/Detroit:20301207T090000
DTEND;TZID=America/Detroit:20301207T120000
DTSTAMP:20260421T220034
CREATED:20260417T173033Z
LAST-MODIFIED:20260417T173033Z
UID:10002135-1922864400-1922875200@saginawymca.org
SUMMARY:KidZone
DESCRIPTION:While parents enjoy their workout or participate in classes\, they can relax knowing their children are in great hands. \nY-Members $1 \nNon Y-Members $5 \nRegister Here!
URL:https://saginawymca.org/event/kid-zone-at-the-saginaw-ymca/2030-12-07/
LOCATION:Saginaw YMCA\, 1915 Fordney St\, Saginaw\, MI\, 48601\, United States
CATEGORIES:Childcare,Parents Night Out,Youth
END:VEVENT
BEGIN:VEVENT
DTSTART;TZID=America/Detroit:20301209T170000
DTEND;TZID=America/Detroit:20301209T200000
DTSTAMP:20260421T220034
CREATED:20260417T173208Z
LAST-MODIFIED:20260417T173512Z
UID:10003961-1923066000-1923076800@saginawymca.org
SUMMARY:KidZone
DESCRIPTION:While parents enjoy their workout or participate in classes\, they can relax knowing their children are in great hands. \nY-Members $1 \nNon Y-Members $5 \nRegister Here!
URL:https://saginawymca.org/event/kidzone/2030-12-09/
LOCATION:Saginaw YMCA\, 1915 Fordney St\, Saginaw\, MI\, 48601\, United States
CATEGORIES:Childcare,Parents Night Out,Youth
END:VEVENT
BEGIN:VEVENT
DTSTART;TZID=America/Detroit:20301211T170000
DTEND;TZID=America/Detroit:20301211T200000
DTSTAMP:20260421T220034
CREATED:20260417T173353Z
LAST-MODIFIED:20260417T173551Z
UID:10004222-1923238800-1923249600@saginawymca.org
SUMMARY:KidZone
DESCRIPTION:While parents enjoy their workout or participate in classes\, they can relax knowing their children are in great hands. \nY-Members $1 \nNon Y-Members $5 \nRegister Here!
URL:https://saginawymca.org/event/kidzone-2/2030-12-11/
LOCATION:Saginaw YMCA\, 1915 Fordney St\, Saginaw\, MI\, 48601\, United States
CATEGORIES:Childcare,Parents Night Out,Youth
END:VEVENT
BEGIN:VEVENT
DTSTART;TZID=America/Detroit:20301212T170000
DTEND;TZID=America/Detroit:20301212T200000
DTSTAMP:20260421T220034
CREATED:20260417T173423Z
LAST-MODIFIED:20260417T173616Z
UID:10004483-1923325200-1923336000@saginawymca.org
SUMMARY:KidZone
DESCRIPTION:While parents enjoy their workout or participate in classes\, they can relax knowing their children are in great hands. \nY-Members $1 \nNon Y-Members $5 \nRegister Here!
URL:https://saginawymca.org/event/kidzone-3/2030-12-12/
LOCATION:Saginaw YMCA\, 1915 Fordney St\, Saginaw\, MI\, 48601\, United States
CATEGORIES:Childcare,Parents Night Out,Youth
END:VEVENT
BEGIN:VEVENT
DTSTART;TZID=America/Detroit:20301214T090000
DTEND;TZID=America/Detroit:20301214T120000
DTSTAMP:20260421T220034
CREATED:20260417T173033Z
LAST-MODIFIED:20260417T173033Z
UID:10002136-1923469200-1923480000@saginawymca.org
SUMMARY:KidZone
DESCRIPTION:While parents enjoy their workout or participate in classes\, they can relax knowing their children are in great hands. \nY-Members $1 \nNon Y-Members $5 \nRegister Here!
URL:https://saginawymca.org/event/kid-zone-at-the-saginaw-ymca/2030-12-14/
LOCATION:Saginaw YMCA\, 1915 Fordney St\, Saginaw\, MI\, 48601\, United States
CATEGORIES:Childcare,Parents Night Out,Youth
END:VEVENT
BEGIN:VEVENT
DTSTART;TZID=America/Detroit:20301216T170000
DTEND;TZID=America/Detroit:20301216T200000
DTSTAMP:20260421T220034
CREATED:20260417T173208Z
LAST-MODIFIED:20260417T173512Z
UID:10003962-1923670800-1923681600@saginawymca.org
SUMMARY:KidZone
DESCRIPTION:While parents enjoy their workout or participate in classes\, they can relax knowing their children are in great hands. \nY-Members $1 \nNon Y-Members $5 \nRegister Here!
URL:https://saginawymca.org/event/kidzone/2030-12-16/
LOCATION:Saginaw YMCA\, 1915 Fordney St\, Saginaw\, MI\, 48601\, United States
CATEGORIES:Childcare,Parents Night Out,Youth
END:VEVENT
BEGIN:VEVENT
DTSTART;TZID=America/Detroit:20301218T170000
DTEND;TZID=America/Detroit:20301218T200000
DTSTAMP:20260421T220034
CREATED:20260417T173353Z
LAST-MODIFIED:20260417T173551Z
UID:10004223-1923843600-1923854400@saginawymca.org
SUMMARY:KidZone
DESCRIPTION:While parents enjoy their workout or participate in classes\, they can relax knowing their children are in great hands. \nY-Members $1 \nNon Y-Members $5 \nRegister Here!
URL:https://saginawymca.org/event/kidzone-2/2030-12-18/
LOCATION:Saginaw YMCA\, 1915 Fordney St\, Saginaw\, MI\, 48601\, United States
CATEGORIES:Childcare,Parents Night Out,Youth
END:VEVENT
BEGIN:VEVENT
DTSTART;TZID=America/Detroit:20301219T170000
DTEND;TZID=America/Detroit:20301219T200000
DTSTAMP:20260421T220034
CREATED:20260417T173423Z
LAST-MODIFIED:20260417T173616Z
UID:10004484-1923930000-1923940800@saginawymca.org
SUMMARY:KidZone
DESCRIPTION:While parents enjoy their workout or participate in classes\, they can relax knowing their children are in great hands. \nY-Members $1 \nNon Y-Members $5 \nRegister Here!
URL:https://saginawymca.org/event/kidzone-3/2030-12-19/
LOCATION:Saginaw YMCA\, 1915 Fordney St\, Saginaw\, MI\, 48601\, United States
CATEGORIES:Childcare,Parents Night Out,Youth
END:VEVENT
BEGIN:VEVENT
DTSTART;TZID=America/Detroit:20301221T090000
DTEND;TZID=America/Detroit:20301221T120000
DTSTAMP:20260421T220034
CREATED:20260417T173033Z
LAST-MODIFIED:20260417T173033Z
UID:10002137-1924074000-1924084800@saginawymca.org
SUMMARY:KidZone
DESCRIPTION:While parents enjoy their workout or participate in classes\, they can relax knowing their children are in great hands. \nY-Members $1 \nNon Y-Members $5 \nRegister Here!
URL:https://saginawymca.org/event/kid-zone-at-the-saginaw-ymca/2030-12-21/
LOCATION:Saginaw YMCA\, 1915 Fordney St\, Saginaw\, MI\, 48601\, United States
CATEGORIES:Childcare,Parents Night Out,Youth
END:VEVENT
BEGIN:VEVENT
DTSTART;TZID=America/Detroit:20301223T170000
DTEND;TZID=America/Detroit:20301223T200000
DTSTAMP:20260421T220034
CREATED:20260417T173208Z
LAST-MODIFIED:20260417T173512Z
UID:10003963-1924275600-1924286400@saginawymca.org
SUMMARY:KidZone
DESCRIPTION:While parents enjoy their workout or participate in classes\, they can relax knowing their children are in great hands. \nY-Members $1 \nNon Y-Members $5 \nRegister Here!
URL:https://saginawymca.org/event/kidzone/2030-12-23/
LOCATION:Saginaw YMCA\, 1915 Fordney St\, Saginaw\, MI\, 48601\, United States
CATEGORIES:Childcare,Parents Night Out,Youth
END:VEVENT
BEGIN:VEVENT
DTSTART;TZID=America/Detroit:20301225T170000
DTEND;TZID=America/Detroit:20301225T200000
DTSTAMP:20260421T220034
CREATED:20260417T173353Z
LAST-MODIFIED:20260417T173551Z
UID:10004224-1924448400-1924459200@saginawymca.org
SUMMARY:KidZone
DESCRIPTION:While parents enjoy their workout or participate in classes\, they can relax knowing their children are in great hands. \nY-Members $1 \nNon Y-Members $5 \nRegister Here!
URL:https://saginawymca.org/event/kidzone-2/2030-12-25/
LOCATION:Saginaw YMCA\, 1915 Fordney St\, Saginaw\, MI\, 48601\, United States
CATEGORIES:Childcare,Parents Night Out,Youth
END:VEVENT
BEGIN:VEVENT
DTSTART;TZID=America/Detroit:20301226T170000
DTEND;TZID=America/Detroit:20301226T200000
DTSTAMP:20260421T220034
CREATED:20260417T173423Z
LAST-MODIFIED:20260417T173616Z
UID:10004485-1924534800-1924545600@saginawymca.org
SUMMARY:KidZone
DESCRIPTION:While parents enjoy their workout or participate in classes\, they can relax knowing their children are in great hands. \nY-Members $1 \nNon Y-Members $5 \nRegister Here!
URL:https://saginawymca.org/event/kidzone-3/2030-12-26/
LOCATION:Saginaw YMCA\, 1915 Fordney St\, Saginaw\, MI\, 48601\, United States
CATEGORIES:Childcare,Parents Night Out,Youth
END:VEVENT
BEGIN:VEVENT
DTSTART;TZID=America/Detroit:20301228T090000
DTEND;TZID=America/Detroit:20301228T120000
DTSTAMP:20260421T220034
CREATED:20260417T173033Z
LAST-MODIFIED:20260417T173033Z
UID:10002138-1924678800-1924689600@saginawymca.org
SUMMARY:KidZone
DESCRIPTION:While parents enjoy their workout or participate in classes\, they can relax knowing their children are in great hands. \nY-Members $1 \nNon Y-Members $5 \nRegister Here!
URL:https://saginawymca.org/event/kid-zone-at-the-saginaw-ymca/2030-12-28/
LOCATION:Saginaw YMCA\, 1915 Fordney St\, Saginaw\, MI\, 48601\, United States
CATEGORIES:Childcare,Parents Night Out,Youth
END:VEVENT
BEGIN:VEVENT
DTSTART;TZID=America/Detroit:20301230T170000
DTEND;TZID=America/Detroit:20301230T200000
DTSTAMP:20260421T220034
CREATED:20260417T173208Z
LAST-MODIFIED:20260417T173512Z
UID:10003964-1924880400-1924891200@saginawymca.org
SUMMARY:KidZone
DESCRIPTION:While parents enjoy their workout or participate in classes\, they can relax knowing their children are in great hands. \nY-Members $1 \nNon Y-Members $5 \nRegister Here!
URL:https://saginawymca.org/event/kidzone/2030-12-30/
LOCATION:Saginaw YMCA\, 1915 Fordney St\, Saginaw\, MI\, 48601\, United States
CATEGORIES:Childcare,Parents Night Out,Youth
END:VEVENT
BEGIN:VEVENT
DTSTART;TZID=America/Detroit:20310101T170000
DTEND;TZID=America/Detroit:20310101T200000
DTSTAMP:20260421T220034
CREATED:20260417T173353Z
LAST-MODIFIED:20260417T173551Z
UID:10004225-1925053200-1925064000@saginawymca.org
SUMMARY:KidZone
DESCRIPTION:While parents enjoy their workout or participate in classes\, they can relax knowing their children are in great hands. \nY-Members $1 \nNon Y-Members $5 \nRegister Here!
URL:https://saginawymca.org/event/kidzone-2/2031-01-01/
LOCATION:Saginaw YMCA\, 1915 Fordney St\, Saginaw\, MI\, 48601\, United States
CATEGORIES:Childcare,Parents Night Out,Youth
END:VEVENT
BEGIN:VEVENT
DTSTART;TZID=America/Detroit:20310102T170000
DTEND;TZID=America/Detroit:20310102T200000
DTSTAMP:20260421T220034
CREATED:20260417T173423Z
LAST-MODIFIED:20260417T173616Z
UID:10004486-1925139600-1925150400@saginawymca.org
SUMMARY:KidZone
DESCRIPTION:While parents enjoy their workout or participate in classes\, they can relax knowing their children are in great hands. \nY-Members $1 \nNon Y-Members $5 \nRegister Here!
URL:https://saginawymca.org/event/kidzone-3/2031-01-02/
LOCATION:Saginaw YMCA\, 1915 Fordney St\, Saginaw\, MI\, 48601\, United States
CATEGORIES:Childcare,Parents Night Out,Youth
END:VEVENT
BEGIN:VEVENT
DTSTART;TZID=America/Detroit:20310104T090000
DTEND;TZID=America/Detroit:20310104T120000
DTSTAMP:20260421T220034
CREATED:20260417T173033Z
LAST-MODIFIED:20260417T173033Z
UID:10002139-1925283600-1925294400@saginawymca.org
SUMMARY:KidZone
DESCRIPTION:While parents enjoy their workout or participate in classes\, they can relax knowing their children are in great hands. \nY-Members $1 \nNon Y-Members $5 \nRegister Here!
URL:https://saginawymca.org/event/kid-zone-at-the-saginaw-ymca/2031-01-04/
LOCATION:Saginaw YMCA\, 1915 Fordney St\, Saginaw\, MI\, 48601\, United States
CATEGORIES:Childcare,Parents Night Out,Youth
END:VEVENT
BEGIN:VEVENT
DTSTART;TZID=America/Detroit:20310106T170000
DTEND;TZID=America/Detroit:20310106T200000
DTSTAMP:20260421T220034
CREATED:20260417T173208Z
LAST-MODIFIED:20260417T173512Z
UID:10003965-1925485200-1925496000@saginawymca.org
SUMMARY:KidZone
DESCRIPTION:While parents enjoy their workout or participate in classes\, they can relax knowing their children are in great hands. \nY-Members $1 \nNon Y-Members $5 \nRegister Here!
URL:https://saginawymca.org/event/kidzone/2031-01-06/
LOCATION:Saginaw YMCA\, 1915 Fordney St\, Saginaw\, MI\, 48601\, United States
CATEGORIES:Childcare,Parents Night Out,Youth
END:VEVENT
BEGIN:VEVENT
DTSTART;TZID=America/Detroit:20310108T170000
DTEND;TZID=America/Detroit:20310108T200000
DTSTAMP:20260421T220034
CREATED:20260417T173353Z
LAST-MODIFIED:20260417T173551Z
UID:10004226-1925658000-1925668800@saginawymca.org
SUMMARY:KidZone
DESCRIPTION:While parents enjoy their workout or participate in classes\, they can relax knowing their children are in great hands. \nY-Members $1 \nNon Y-Members $5 \nRegister Here!
URL:https://saginawymca.org/event/kidzone-2/2031-01-08/
LOCATION:Saginaw YMCA\, 1915 Fordney St\, Saginaw\, MI\, 48601\, United States
CATEGORIES:Childcare,Parents Night Out,Youth
END:VEVENT
BEGIN:VEVENT
DTSTART;TZID=America/Detroit:20310109T170000
DTEND;TZID=America/Detroit:20310109T200000
DTSTAMP:20260421T220034
CREATED:20260417T173423Z
LAST-MODIFIED:20260417T173616Z
UID:10004487-1925744400-1925755200@saginawymca.org
SUMMARY:KidZone
DESCRIPTION:While parents enjoy their workout or participate in classes\, they can relax knowing their children are in great hands. \nY-Members $1 \nNon Y-Members $5 \nRegister Here!
URL:https://saginawymca.org/event/kidzone-3/2031-01-09/
LOCATION:Saginaw YMCA\, 1915 Fordney St\, Saginaw\, MI\, 48601\, United States
CATEGORIES:Childcare,Parents Night Out,Youth
END:VEVENT
BEGIN:VEVENT
DTSTART;TZID=America/Detroit:20310111T090000
DTEND;TZID=America/Detroit:20310111T120000
DTSTAMP:20260421T220034
CREATED:20260417T173033Z
LAST-MODIFIED:20260417T173033Z
UID:10002140-1925888400-1925899200@saginawymca.org
SUMMARY:KidZone
DESCRIPTION:While parents enjoy their workout or participate in classes\, they can relax knowing their children are in great hands. \nY-Members $1 \nNon Y-Members $5 \nRegister Here!
URL:https://saginawymca.org/event/kid-zone-at-the-saginaw-ymca/2031-01-11/
LOCATION:Saginaw YMCA\, 1915 Fordney St\, Saginaw\, MI\, 48601\, United States
CATEGORIES:Childcare,Parents Night Out,Youth
END:VEVENT
BEGIN:VEVENT
DTSTART;TZID=America/Detroit:20310113T170000
DTEND;TZID=America/Detroit:20310113T200000
DTSTAMP:20260421T220034
CREATED:20260417T173208Z
LAST-MODIFIED:20260417T173512Z
UID:10003966-1926090000-1926100800@saginawymca.org
SUMMARY:KidZone
DESCRIPTION:While parents enjoy their workout or participate in classes\, they can relax knowing their children are in great hands. \nY-Members $1 \nNon Y-Members $5 \nRegister Here!
URL:https://saginawymca.org/event/kidzone/2031-01-13/
LOCATION:Saginaw YMCA\, 1915 Fordney St\, Saginaw\, MI\, 48601\, United States
CATEGORIES:Childcare,Parents Night Out,Youth
END:VEVENT
BEGIN:VEVENT
DTSTART;TZID=America/Detroit:20310115T170000
DTEND;TZID=America/Detroit:20310115T200000
DTSTAMP:20260421T220034
CREATED:20260417T173353Z
LAST-MODIFIED:20260417T173551Z
UID:10004227-1926262800-1926273600@saginawymca.org
SUMMARY:KidZone
DESCRIPTION:While parents enjoy their workout or participate in classes\, they can relax knowing their children are in great hands. \nY-Members $1 \nNon Y-Members $5 \nRegister Here!
URL:https://saginawymca.org/event/kidzone-2/2031-01-15/
LOCATION:Saginaw YMCA\, 1915 Fordney St\, Saginaw\, MI\, 48601\, United States
CATEGORIES:Childcare,Parents Night Out,Youth
END:VEVENT
BEGIN:VEVENT
DTSTART;TZID=America/Detroit:20310116T170000
DTEND;TZID=America/Detroit:20310116T200000
DTSTAMP:20260421T220034
CREATED:20260417T173423Z
LAST-MODIFIED:20260417T173616Z
UID:10004488-1926349200-1926360000@saginawymca.org
SUMMARY:KidZone
DESCRIPTION:While parents enjoy their workout or participate in classes\, they can relax knowing their children are in great hands. \nY-Members $1 \nNon Y-Members $5 \nRegister Here!
URL:https://saginawymca.org/event/kidzone-3/2031-01-16/
LOCATION:Saginaw YMCA\, 1915 Fordney St\, Saginaw\, MI\, 48601\, United States
CATEGORIES:Childcare,Parents Night Out,Youth
END:VEVENT
BEGIN:VEVENT
DTSTART;TZID=America/Detroit:20310118T090000
DTEND;TZID=America/Detroit:20310118T120000
DTSTAMP:20260421T220034
CREATED:20260417T173033Z
LAST-MODIFIED:20260417T173033Z
UID:10002141-1926493200-1926504000@saginawymca.org
SUMMARY:KidZone
DESCRIPTION:While parents enjoy their workout or participate in classes\, they can relax knowing their children are in great hands. \nY-Members $1 \nNon Y-Members $5 \nRegister Here!
URL:https://saginawymca.org/event/kid-zone-at-the-saginaw-ymca/2031-01-18/
LOCATION:Saginaw YMCA\, 1915 Fordney St\, Saginaw\, MI\, 48601\, United States
CATEGORIES:Childcare,Parents Night Out,Youth
END:VEVENT
END:VCALENDAR