BEGIN:VCALENDAR
VERSION:2.0
PRODID:-//Saginaw YMCA - ECPv6.15.20//NONSGML v1.0//EN
CALSCALE:GREGORIAN
METHOD:PUBLISH
X-WR-CALNAME:Saginaw YMCA
X-ORIGINAL-URL:https://saginawymca.org
X-WR-CALDESC:Events for Saginaw YMCA
REFRESH-INTERVAL;VALUE=DURATION:PT1H
X-Robots-Tag:noindex
X-PUBLISHED-TTL:PT1H
BEGIN:VTIMEZONE
TZID:America/Detroit
BEGIN:DAYLIGHT
TZOFFSETFROM:-0500
TZOFFSETTO:-0400
TZNAME:EDT
DTSTART:20290311T070000
END:DAYLIGHT
BEGIN:STANDARD
TZOFFSETFROM:-0400
TZOFFSETTO:-0500
TZNAME:EST
DTSTART:20291104T060000
END:STANDARD
BEGIN:DAYLIGHT
TZOFFSETFROM:-0500
TZOFFSETTO:-0400
TZNAME:EDT
DTSTART:20300310T070000
END:DAYLIGHT
BEGIN:STANDARD
TZOFFSETFROM:-0400
TZOFFSETTO:-0500
TZNAME:EST
DTSTART:20301103T060000
END:STANDARD
BEGIN:DAYLIGHT
TZOFFSETFROM:-0500
TZOFFSETTO:-0400
TZNAME:EDT
DTSTART:20310309T070000
END:DAYLIGHT
BEGIN:STANDARD
TZOFFSETFROM:-0400
TZOFFSETTO:-0500
TZNAME:EST
DTSTART:20311102T060000
END:STANDARD
END:VTIMEZONE
BEGIN:VEVENT
DTSTART;TZID=America/Detroit:20300930T170000
DTEND;TZID=America/Detroit:20300930T200000
DTSTAMP:20260421T161719
CREATED:20260417T173208Z
LAST-MODIFIED:20260417T173512Z
UID:10003951-1917018000-1917028800@saginawymca.org
SUMMARY:KidZone
DESCRIPTION:While parents enjoy their workout or participate in classes\, they can relax knowing their children are in great hands. \nY-Members $1 \nNon Y-Members $5 \nRegister Here!
URL:https://saginawymca.org/event/kidzone/2030-09-30/
LOCATION:Saginaw YMCA\, 1915 Fordney St\, Saginaw\, MI\, 48601\, United States
CATEGORIES:Childcare,Parents Night Out,Youth
END:VEVENT
BEGIN:VEVENT
DTSTART;TZID=America/Detroit:20301002T170000
DTEND;TZID=America/Detroit:20301002T200000
DTSTAMP:20260421T161719
CREATED:20260417T173353Z
LAST-MODIFIED:20260417T173551Z
UID:10004212-1917190800-1917201600@saginawymca.org
SUMMARY:KidZone
DESCRIPTION:While parents enjoy their workout or participate in classes\, they can relax knowing their children are in great hands. \nY-Members $1 \nNon Y-Members $5 \nRegister Here!
URL:https://saginawymca.org/event/kidzone-2/2030-10-02/
LOCATION:Saginaw YMCA\, 1915 Fordney St\, Saginaw\, MI\, 48601\, United States
CATEGORIES:Childcare,Parents Night Out,Youth
END:VEVENT
BEGIN:VEVENT
DTSTART;TZID=America/Detroit:20301003T170000
DTEND;TZID=America/Detroit:20301003T200000
DTSTAMP:20260421T161719
CREATED:20260417T173423Z
LAST-MODIFIED:20260417T173616Z
UID:10004473-1917277200-1917288000@saginawymca.org
SUMMARY:KidZone
DESCRIPTION:While parents enjoy their workout or participate in classes\, they can relax knowing their children are in great hands. \nY-Members $1 \nNon Y-Members $5 \nRegister Here!
URL:https://saginawymca.org/event/kidzone-3/2030-10-03/
LOCATION:Saginaw YMCA\, 1915 Fordney St\, Saginaw\, MI\, 48601\, United States
CATEGORIES:Childcare,Parents Night Out,Youth
END:VEVENT
BEGIN:VEVENT
DTSTART;TZID=America/Detroit:20301005T090000
DTEND;TZID=America/Detroit:20301005T120000
DTSTAMP:20260421T161719
CREATED:20260417T173033Z
LAST-MODIFIED:20260417T173033Z
UID:10002126-1917421200-1917432000@saginawymca.org
SUMMARY:KidZone
DESCRIPTION:While parents enjoy their workout or participate in classes\, they can relax knowing their children are in great hands. \nY-Members $1 \nNon Y-Members $5 \nRegister Here!
URL:https://saginawymca.org/event/kid-zone-at-the-saginaw-ymca/2030-10-05/
LOCATION:Saginaw YMCA\, 1915 Fordney St\, Saginaw\, MI\, 48601\, United States
CATEGORIES:Childcare,Parents Night Out,Youth
END:VEVENT
BEGIN:VEVENT
DTSTART;TZID=America/Detroit:20301007T170000
DTEND;TZID=America/Detroit:20301007T200000
DTSTAMP:20260421T161719
CREATED:20260417T173208Z
LAST-MODIFIED:20260417T173512Z
UID:10003952-1917622800-1917633600@saginawymca.org
SUMMARY:KidZone
DESCRIPTION:While parents enjoy their workout or participate in classes\, they can relax knowing their children are in great hands. \nY-Members $1 \nNon Y-Members $5 \nRegister Here!
URL:https://saginawymca.org/event/kidzone/2030-10-07/
LOCATION:Saginaw YMCA\, 1915 Fordney St\, Saginaw\, MI\, 48601\, United States
CATEGORIES:Childcare,Parents Night Out,Youth
END:VEVENT
BEGIN:VEVENT
DTSTART;TZID=America/Detroit:20301009T170000
DTEND;TZID=America/Detroit:20301009T200000
DTSTAMP:20260421T161719
CREATED:20260417T173353Z
LAST-MODIFIED:20260417T173551Z
UID:10004213-1917795600-1917806400@saginawymca.org
SUMMARY:KidZone
DESCRIPTION:While parents enjoy their workout or participate in classes\, they can relax knowing their children are in great hands. \nY-Members $1 \nNon Y-Members $5 \nRegister Here!
URL:https://saginawymca.org/event/kidzone-2/2030-10-09/
LOCATION:Saginaw YMCA\, 1915 Fordney St\, Saginaw\, MI\, 48601\, United States
CATEGORIES:Childcare,Parents Night Out,Youth
END:VEVENT
BEGIN:VEVENT
DTSTART;TZID=America/Detroit:20301010T170000
DTEND;TZID=America/Detroit:20301010T200000
DTSTAMP:20260421T161719
CREATED:20260417T173423Z
LAST-MODIFIED:20260417T173616Z
UID:10004474-1917882000-1917892800@saginawymca.org
SUMMARY:KidZone
DESCRIPTION:While parents enjoy their workout or participate in classes\, they can relax knowing their children are in great hands. \nY-Members $1 \nNon Y-Members $5 \nRegister Here!
URL:https://saginawymca.org/event/kidzone-3/2030-10-10/
LOCATION:Saginaw YMCA\, 1915 Fordney St\, Saginaw\, MI\, 48601\, United States
CATEGORIES:Childcare,Parents Night Out,Youth
END:VEVENT
BEGIN:VEVENT
DTSTART;TZID=America/Detroit:20301012T090000
DTEND;TZID=America/Detroit:20301012T120000
DTSTAMP:20260421T161719
CREATED:20260417T173033Z
LAST-MODIFIED:20260417T173033Z
UID:10002127-1918026000-1918036800@saginawymca.org
SUMMARY:KidZone
DESCRIPTION:While parents enjoy their workout or participate in classes\, they can relax knowing their children are in great hands. \nY-Members $1 \nNon Y-Members $5 \nRegister Here!
URL:https://saginawymca.org/event/kid-zone-at-the-saginaw-ymca/2030-10-12/
LOCATION:Saginaw YMCA\, 1915 Fordney St\, Saginaw\, MI\, 48601\, United States
CATEGORIES:Childcare,Parents Night Out,Youth
END:VEVENT
BEGIN:VEVENT
DTSTART;TZID=America/Detroit:20301014T170000
DTEND;TZID=America/Detroit:20301014T200000
DTSTAMP:20260421T161719
CREATED:20260417T173208Z
LAST-MODIFIED:20260417T173512Z
UID:10003953-1918227600-1918238400@saginawymca.org
SUMMARY:KidZone
DESCRIPTION:While parents enjoy their workout or participate in classes\, they can relax knowing their children are in great hands. \nY-Members $1 \nNon Y-Members $5 \nRegister Here!
URL:https://saginawymca.org/event/kidzone/2030-10-14/
LOCATION:Saginaw YMCA\, 1915 Fordney St\, Saginaw\, MI\, 48601\, United States
CATEGORIES:Childcare,Parents Night Out,Youth
END:VEVENT
BEGIN:VEVENT
DTSTART;TZID=America/Detroit:20301016T170000
DTEND;TZID=America/Detroit:20301016T200000
DTSTAMP:20260421T161719
CREATED:20260417T173353Z
LAST-MODIFIED:20260417T173551Z
UID:10004214-1918400400-1918411200@saginawymca.org
SUMMARY:KidZone
DESCRIPTION:While parents enjoy their workout or participate in classes\, they can relax knowing their children are in great hands. \nY-Members $1 \nNon Y-Members $5 \nRegister Here!
URL:https://saginawymca.org/event/kidzone-2/2030-10-16/
LOCATION:Saginaw YMCA\, 1915 Fordney St\, Saginaw\, MI\, 48601\, United States
CATEGORIES:Childcare,Parents Night Out,Youth
END:VEVENT
BEGIN:VEVENT
DTSTART;TZID=America/Detroit:20301017T170000
DTEND;TZID=America/Detroit:20301017T200000
DTSTAMP:20260421T161719
CREATED:20260417T173423Z
LAST-MODIFIED:20260417T173616Z
UID:10004475-1918486800-1918497600@saginawymca.org
SUMMARY:KidZone
DESCRIPTION:While parents enjoy their workout or participate in classes\, they can relax knowing their children are in great hands. \nY-Members $1 \nNon Y-Members $5 \nRegister Here!
URL:https://saginawymca.org/event/kidzone-3/2030-10-17/
LOCATION:Saginaw YMCA\, 1915 Fordney St\, Saginaw\, MI\, 48601\, United States
CATEGORIES:Childcare,Parents Night Out,Youth
END:VEVENT
BEGIN:VEVENT
DTSTART;TZID=America/Detroit:20301019T090000
DTEND;TZID=America/Detroit:20301019T120000
DTSTAMP:20260421T161719
CREATED:20260417T173033Z
LAST-MODIFIED:20260417T173033Z
UID:10002128-1918630800-1918641600@saginawymca.org
SUMMARY:KidZone
DESCRIPTION:While parents enjoy their workout or participate in classes\, they can relax knowing their children are in great hands. \nY-Members $1 \nNon Y-Members $5 \nRegister Here!
URL:https://saginawymca.org/event/kid-zone-at-the-saginaw-ymca/2030-10-19/
LOCATION:Saginaw YMCA\, 1915 Fordney St\, Saginaw\, MI\, 48601\, United States
CATEGORIES:Childcare,Parents Night Out,Youth
END:VEVENT
BEGIN:VEVENT
DTSTART;TZID=America/Detroit:20301021T170000
DTEND;TZID=America/Detroit:20301021T200000
DTSTAMP:20260421T161719
CREATED:20260417T173208Z
LAST-MODIFIED:20260417T173512Z
UID:10003954-1918832400-1918843200@saginawymca.org
SUMMARY:KidZone
DESCRIPTION:While parents enjoy their workout or participate in classes\, they can relax knowing their children are in great hands. \nY-Members $1 \nNon Y-Members $5 \nRegister Here!
URL:https://saginawymca.org/event/kidzone/2030-10-21/
LOCATION:Saginaw YMCA\, 1915 Fordney St\, Saginaw\, MI\, 48601\, United States
CATEGORIES:Childcare,Parents Night Out,Youth
END:VEVENT
BEGIN:VEVENT
DTSTART;TZID=America/Detroit:20301023T170000
DTEND;TZID=America/Detroit:20301023T200000
DTSTAMP:20260421T161719
CREATED:20260417T173353Z
LAST-MODIFIED:20260417T173551Z
UID:10004215-1919005200-1919016000@saginawymca.org
SUMMARY:KidZone
DESCRIPTION:While parents enjoy their workout or participate in classes\, they can relax knowing their children are in great hands. \nY-Members $1 \nNon Y-Members $5 \nRegister Here!
URL:https://saginawymca.org/event/kidzone-2/2030-10-23/
LOCATION:Saginaw YMCA\, 1915 Fordney St\, Saginaw\, MI\, 48601\, United States
CATEGORIES:Childcare,Parents Night Out,Youth
END:VEVENT
BEGIN:VEVENT
DTSTART;TZID=America/Detroit:20301024T170000
DTEND;TZID=America/Detroit:20301024T200000
DTSTAMP:20260421T161719
CREATED:20260417T173423Z
LAST-MODIFIED:20260417T173616Z
UID:10004476-1919091600-1919102400@saginawymca.org
SUMMARY:KidZone
DESCRIPTION:While parents enjoy their workout or participate in classes\, they can relax knowing their children are in great hands. \nY-Members $1 \nNon Y-Members $5 \nRegister Here!
URL:https://saginawymca.org/event/kidzone-3/2030-10-24/
LOCATION:Saginaw YMCA\, 1915 Fordney St\, Saginaw\, MI\, 48601\, United States
CATEGORIES:Childcare,Parents Night Out,Youth
END:VEVENT
BEGIN:VEVENT
DTSTART;TZID=America/Detroit:20301026T090000
DTEND;TZID=America/Detroit:20301026T120000
DTSTAMP:20260421T161719
CREATED:20260417T173033Z
LAST-MODIFIED:20260417T173033Z
UID:10002129-1919235600-1919246400@saginawymca.org
SUMMARY:KidZone
DESCRIPTION:While parents enjoy their workout or participate in classes\, they can relax knowing their children are in great hands. \nY-Members $1 \nNon Y-Members $5 \nRegister Here!
URL:https://saginawymca.org/event/kid-zone-at-the-saginaw-ymca/2030-10-26/
LOCATION:Saginaw YMCA\, 1915 Fordney St\, Saginaw\, MI\, 48601\, United States
CATEGORIES:Childcare,Parents Night Out,Youth
END:VEVENT
BEGIN:VEVENT
DTSTART;TZID=America/Detroit:20301028T170000
DTEND;TZID=America/Detroit:20301028T200000
DTSTAMP:20260421T161719
CREATED:20260417T173208Z
LAST-MODIFIED:20260417T173512Z
UID:10003955-1919437200-1919448000@saginawymca.org
SUMMARY:KidZone
DESCRIPTION:While parents enjoy their workout or participate in classes\, they can relax knowing their children are in great hands. \nY-Members $1 \nNon Y-Members $5 \nRegister Here!
URL:https://saginawymca.org/event/kidzone/2030-10-28/
LOCATION:Saginaw YMCA\, 1915 Fordney St\, Saginaw\, MI\, 48601\, United States
CATEGORIES:Childcare,Parents Night Out,Youth
END:VEVENT
BEGIN:VEVENT
DTSTART;TZID=America/Detroit:20301030T170000
DTEND;TZID=America/Detroit:20301030T200000
DTSTAMP:20260421T161719
CREATED:20260417T173353Z
LAST-MODIFIED:20260417T173551Z
UID:10004216-1919610000-1919620800@saginawymca.org
SUMMARY:KidZone
DESCRIPTION:While parents enjoy their workout or participate in classes\, they can relax knowing their children are in great hands. \nY-Members $1 \nNon Y-Members $5 \nRegister Here!
URL:https://saginawymca.org/event/kidzone-2/2030-10-30/
LOCATION:Saginaw YMCA\, 1915 Fordney St\, Saginaw\, MI\, 48601\, United States
CATEGORIES:Childcare,Parents Night Out,Youth
END:VEVENT
BEGIN:VEVENT
DTSTART;TZID=America/Detroit:20301031T170000
DTEND;TZID=America/Detroit:20301031T200000
DTSTAMP:20260421T161719
CREATED:20260417T173423Z
LAST-MODIFIED:20260417T173616Z
UID:10004477-1919696400-1919707200@saginawymca.org
SUMMARY:KidZone
DESCRIPTION:While parents enjoy their workout or participate in classes\, they can relax knowing their children are in great hands. \nY-Members $1 \nNon Y-Members $5 \nRegister Here!
URL:https://saginawymca.org/event/kidzone-3/2030-10-31/
LOCATION:Saginaw YMCA\, 1915 Fordney St\, Saginaw\, MI\, 48601\, United States
CATEGORIES:Childcare,Parents Night Out,Youth
END:VEVENT
BEGIN:VEVENT
DTSTART;TZID=America/Detroit:20301102T090000
DTEND;TZID=America/Detroit:20301102T120000
DTSTAMP:20260421T161719
CREATED:20260417T173033Z
LAST-MODIFIED:20260417T173033Z
UID:10002130-1919840400-1919851200@saginawymca.org
SUMMARY:KidZone
DESCRIPTION:While parents enjoy their workout or participate in classes\, they can relax knowing their children are in great hands. \nY-Members $1 \nNon Y-Members $5 \nRegister Here!
URL:https://saginawymca.org/event/kid-zone-at-the-saginaw-ymca/2030-11-02/
LOCATION:Saginaw YMCA\, 1915 Fordney St\, Saginaw\, MI\, 48601\, United States
CATEGORIES:Childcare,Parents Night Out,Youth
END:VEVENT
BEGIN:VEVENT
DTSTART;TZID=America/Detroit:20301104T170000
DTEND;TZID=America/Detroit:20301104T200000
DTSTAMP:20260421T161719
CREATED:20260417T173208Z
LAST-MODIFIED:20260417T173512Z
UID:10003956-1920042000-1920052800@saginawymca.org
SUMMARY:KidZone
DESCRIPTION:While parents enjoy their workout or participate in classes\, they can relax knowing their children are in great hands. \nY-Members $1 \nNon Y-Members $5 \nRegister Here!
URL:https://saginawymca.org/event/kidzone/2030-11-04/
LOCATION:Saginaw YMCA\, 1915 Fordney St\, Saginaw\, MI\, 48601\, United States
CATEGORIES:Childcare,Parents Night Out,Youth
END:VEVENT
BEGIN:VEVENT
DTSTART;TZID=America/Detroit:20301106T170000
DTEND;TZID=America/Detroit:20301106T200000
DTSTAMP:20260421T161719
CREATED:20260417T173353Z
LAST-MODIFIED:20260417T173551Z
UID:10004217-1920214800-1920225600@saginawymca.org
SUMMARY:KidZone
DESCRIPTION:While parents enjoy their workout or participate in classes\, they can relax knowing their children are in great hands. \nY-Members $1 \nNon Y-Members $5 \nRegister Here!
URL:https://saginawymca.org/event/kidzone-2/2030-11-06/
LOCATION:Saginaw YMCA\, 1915 Fordney St\, Saginaw\, MI\, 48601\, United States
CATEGORIES:Childcare,Parents Night Out,Youth
END:VEVENT
BEGIN:VEVENT
DTSTART;TZID=America/Detroit:20301107T170000
DTEND;TZID=America/Detroit:20301107T200000
DTSTAMP:20260421T161719
CREATED:20260417T173423Z
LAST-MODIFIED:20260417T173616Z
UID:10004478-1920301200-1920312000@saginawymca.org
SUMMARY:KidZone
DESCRIPTION:While parents enjoy their workout or participate in classes\, they can relax knowing their children are in great hands. \nY-Members $1 \nNon Y-Members $5 \nRegister Here!
URL:https://saginawymca.org/event/kidzone-3/2030-11-07/
LOCATION:Saginaw YMCA\, 1915 Fordney St\, Saginaw\, MI\, 48601\, United States
CATEGORIES:Childcare,Parents Night Out,Youth
END:VEVENT
BEGIN:VEVENT
DTSTART;TZID=America/Detroit:20301109T090000
DTEND;TZID=America/Detroit:20301109T120000
DTSTAMP:20260421T161719
CREATED:20260417T173033Z
LAST-MODIFIED:20260417T173033Z
UID:10002131-1920445200-1920456000@saginawymca.org
SUMMARY:KidZone
DESCRIPTION:While parents enjoy their workout or participate in classes\, they can relax knowing their children are in great hands. \nY-Members $1 \nNon Y-Members $5 \nRegister Here!
URL:https://saginawymca.org/event/kid-zone-at-the-saginaw-ymca/2030-11-09/
LOCATION:Saginaw YMCA\, 1915 Fordney St\, Saginaw\, MI\, 48601\, United States
CATEGORIES:Childcare,Parents Night Out,Youth
END:VEVENT
BEGIN:VEVENT
DTSTART;TZID=America/Detroit:20301111T170000
DTEND;TZID=America/Detroit:20301111T200000
DTSTAMP:20260421T161719
CREATED:20260417T173208Z
LAST-MODIFIED:20260417T173512Z
UID:10003957-1920646800-1920657600@saginawymca.org
SUMMARY:KidZone
DESCRIPTION:While parents enjoy their workout or participate in classes\, they can relax knowing their children are in great hands. \nY-Members $1 \nNon Y-Members $5 \nRegister Here!
URL:https://saginawymca.org/event/kidzone/2030-11-11/
LOCATION:Saginaw YMCA\, 1915 Fordney St\, Saginaw\, MI\, 48601\, United States
CATEGORIES:Childcare,Parents Night Out,Youth
END:VEVENT
BEGIN:VEVENT
DTSTART;TZID=America/Detroit:20301113T170000
DTEND;TZID=America/Detroit:20301113T200000
DTSTAMP:20260421T161719
CREATED:20260417T173353Z
LAST-MODIFIED:20260417T173551Z
UID:10004218-1920819600-1920830400@saginawymca.org
SUMMARY:KidZone
DESCRIPTION:While parents enjoy their workout or participate in classes\, they can relax knowing their children are in great hands. \nY-Members $1 \nNon Y-Members $5 \nRegister Here!
URL:https://saginawymca.org/event/kidzone-2/2030-11-13/
LOCATION:Saginaw YMCA\, 1915 Fordney St\, Saginaw\, MI\, 48601\, United States
CATEGORIES:Childcare,Parents Night Out,Youth
END:VEVENT
BEGIN:VEVENT
DTSTART;TZID=America/Detroit:20301114T170000
DTEND;TZID=America/Detroit:20301114T200000
DTSTAMP:20260421T161719
CREATED:20260417T173423Z
LAST-MODIFIED:20260417T173616Z
UID:10004479-1920906000-1920916800@saginawymca.org
SUMMARY:KidZone
DESCRIPTION:While parents enjoy their workout or participate in classes\, they can relax knowing their children are in great hands. \nY-Members $1 \nNon Y-Members $5 \nRegister Here!
URL:https://saginawymca.org/event/kidzone-3/2030-11-14/
LOCATION:Saginaw YMCA\, 1915 Fordney St\, Saginaw\, MI\, 48601\, United States
CATEGORIES:Childcare,Parents Night Out,Youth
END:VEVENT
BEGIN:VEVENT
DTSTART;TZID=America/Detroit:20301116T090000
DTEND;TZID=America/Detroit:20301116T120000
DTSTAMP:20260421T161719
CREATED:20260417T173033Z
LAST-MODIFIED:20260417T173033Z
UID:10002132-1921050000-1921060800@saginawymca.org
SUMMARY:KidZone
DESCRIPTION:While parents enjoy their workout or participate in classes\, they can relax knowing their children are in great hands. \nY-Members $1 \nNon Y-Members $5 \nRegister Here!
URL:https://saginawymca.org/event/kid-zone-at-the-saginaw-ymca/2030-11-16/
LOCATION:Saginaw YMCA\, 1915 Fordney St\, Saginaw\, MI\, 48601\, United States
CATEGORIES:Childcare,Parents Night Out,Youth
END:VEVENT
BEGIN:VEVENT
DTSTART;TZID=America/Detroit:20301118T170000
DTEND;TZID=America/Detroit:20301118T200000
DTSTAMP:20260421T161719
CREATED:20260417T173208Z
LAST-MODIFIED:20260417T173512Z
UID:10003958-1921251600-1921262400@saginawymca.org
SUMMARY:KidZone
DESCRIPTION:While parents enjoy their workout or participate in classes\, they can relax knowing their children are in great hands. \nY-Members $1 \nNon Y-Members $5 \nRegister Here!
URL:https://saginawymca.org/event/kidzone/2030-11-18/
LOCATION:Saginaw YMCA\, 1915 Fordney St\, Saginaw\, MI\, 48601\, United States
CATEGORIES:Childcare,Parents Night Out,Youth
END:VEVENT
BEGIN:VEVENT
DTSTART;TZID=America/Detroit:20301120T170000
DTEND;TZID=America/Detroit:20301120T200000
DTSTAMP:20260421T161719
CREATED:20260417T173353Z
LAST-MODIFIED:20260417T173551Z
UID:10004219-1921424400-1921435200@saginawymca.org
SUMMARY:KidZone
DESCRIPTION:While parents enjoy their workout or participate in classes\, they can relax knowing their children are in great hands. \nY-Members $1 \nNon Y-Members $5 \nRegister Here!
URL:https://saginawymca.org/event/kidzone-2/2030-11-20/
LOCATION:Saginaw YMCA\, 1915 Fordney St\, Saginaw\, MI\, 48601\, United States
CATEGORIES:Childcare,Parents Night Out,Youth
END:VEVENT
END:VCALENDAR