BEGIN:VCALENDAR
VERSION:2.0
PRODID:-//Saginaw YMCA - ECPv6.15.20//NONSGML v1.0//EN
CALSCALE:GREGORIAN
METHOD:PUBLISH
X-WR-CALNAME:Saginaw YMCA
X-ORIGINAL-URL:https://saginawymca.org
X-WR-CALDESC:Events for Saginaw YMCA
REFRESH-INTERVAL;VALUE=DURATION:PT1H
X-Robots-Tag:noindex
X-PUBLISHED-TTL:PT1H
BEGIN:VTIMEZONE
TZID:America/Detroit
BEGIN:DAYLIGHT
TZOFFSETFROM:-0500
TZOFFSETTO:-0400
TZNAME:EDT
DTSTART:20290311T070000
END:DAYLIGHT
BEGIN:STANDARD
TZOFFSETFROM:-0400
TZOFFSETTO:-0500
TZNAME:EST
DTSTART:20291104T060000
END:STANDARD
BEGIN:DAYLIGHT
TZOFFSETFROM:-0500
TZOFFSETTO:-0400
TZNAME:EDT
DTSTART:20300310T070000
END:DAYLIGHT
BEGIN:STANDARD
TZOFFSETFROM:-0400
TZOFFSETTO:-0500
TZNAME:EST
DTSTART:20301103T060000
END:STANDARD
BEGIN:DAYLIGHT
TZOFFSETFROM:-0500
TZOFFSETTO:-0400
TZNAME:EDT
DTSTART:20310309T070000
END:DAYLIGHT
BEGIN:STANDARD
TZOFFSETFROM:-0400
TZOFFSETTO:-0500
TZNAME:EST
DTSTART:20311102T060000
END:STANDARD
END:VTIMEZONE
BEGIN:VEVENT
DTSTART;TZID=America/Detroit:20300704T170000
DTEND;TZID=America/Detroit:20300704T200000
DTSTAMP:20260421T120939
CREATED:20260417T173423Z
LAST-MODIFIED:20260417T173616Z
UID:10004460-1909414800-1909425600@saginawymca.org
SUMMARY:KidZone
DESCRIPTION:While parents enjoy their workout or participate in classes\, they can relax knowing their children are in great hands. \nY-Members $1 \nNon Y-Members $5 \nRegister Here!
URL:https://saginawymca.org/event/kidzone-3/2030-07-04/
LOCATION:Saginaw YMCA\, 1915 Fordney St\, Saginaw\, MI\, 48601\, United States
CATEGORIES:Childcare,Parents Night Out,Youth
END:VEVENT
BEGIN:VEVENT
DTSTART;TZID=America/Detroit:20300706T090000
DTEND;TZID=America/Detroit:20300706T120000
DTSTAMP:20260421T120939
CREATED:20260417T173033Z
LAST-MODIFIED:20260417T173033Z
UID:10002113-1909558800-1909569600@saginawymca.org
SUMMARY:KidZone
DESCRIPTION:While parents enjoy their workout or participate in classes\, they can relax knowing their children are in great hands. \nY-Members $1 \nNon Y-Members $5 \nRegister Here!
URL:https://saginawymca.org/event/kid-zone-at-the-saginaw-ymca/2030-07-06/
LOCATION:Saginaw YMCA\, 1915 Fordney St\, Saginaw\, MI\, 48601\, United States
CATEGORIES:Childcare,Parents Night Out,Youth
END:VEVENT
BEGIN:VEVENT
DTSTART;TZID=America/Detroit:20300708T170000
DTEND;TZID=America/Detroit:20300708T200000
DTSTAMP:20260421T120939
CREATED:20260417T173208Z
LAST-MODIFIED:20260417T173512Z
UID:10003939-1909760400-1909771200@saginawymca.org
SUMMARY:KidZone
DESCRIPTION:While parents enjoy their workout or participate in classes\, they can relax knowing their children are in great hands. \nY-Members $1 \nNon Y-Members $5 \nRegister Here!
URL:https://saginawymca.org/event/kidzone/2030-07-08/
LOCATION:Saginaw YMCA\, 1915 Fordney St\, Saginaw\, MI\, 48601\, United States
CATEGORIES:Childcare,Parents Night Out,Youth
END:VEVENT
BEGIN:VEVENT
DTSTART;TZID=America/Detroit:20300710T170000
DTEND;TZID=America/Detroit:20300710T200000
DTSTAMP:20260421T120939
CREATED:20260417T173353Z
LAST-MODIFIED:20260417T173551Z
UID:10004200-1909933200-1909944000@saginawymca.org
SUMMARY:KidZone
DESCRIPTION:While parents enjoy their workout or participate in classes\, they can relax knowing their children are in great hands. \nY-Members $1 \nNon Y-Members $5 \nRegister Here!
URL:https://saginawymca.org/event/kidzone-2/2030-07-10/
LOCATION:Saginaw YMCA\, 1915 Fordney St\, Saginaw\, MI\, 48601\, United States
CATEGORIES:Childcare,Parents Night Out,Youth
END:VEVENT
BEGIN:VEVENT
DTSTART;TZID=America/Detroit:20300711T170000
DTEND;TZID=America/Detroit:20300711T200000
DTSTAMP:20260421T120939
CREATED:20260417T173423Z
LAST-MODIFIED:20260417T173616Z
UID:10004461-1910019600-1910030400@saginawymca.org
SUMMARY:KidZone
DESCRIPTION:While parents enjoy their workout or participate in classes\, they can relax knowing their children are in great hands. \nY-Members $1 \nNon Y-Members $5 \nRegister Here!
URL:https://saginawymca.org/event/kidzone-3/2030-07-11/
LOCATION:Saginaw YMCA\, 1915 Fordney St\, Saginaw\, MI\, 48601\, United States
CATEGORIES:Childcare,Parents Night Out,Youth
END:VEVENT
BEGIN:VEVENT
DTSTART;TZID=America/Detroit:20300713T090000
DTEND;TZID=America/Detroit:20300713T120000
DTSTAMP:20260421T120939
CREATED:20260417T173033Z
LAST-MODIFIED:20260417T173033Z
UID:10002114-1910163600-1910174400@saginawymca.org
SUMMARY:KidZone
DESCRIPTION:While parents enjoy their workout or participate in classes\, they can relax knowing their children are in great hands. \nY-Members $1 \nNon Y-Members $5 \nRegister Here!
URL:https://saginawymca.org/event/kid-zone-at-the-saginaw-ymca/2030-07-13/
LOCATION:Saginaw YMCA\, 1915 Fordney St\, Saginaw\, MI\, 48601\, United States
CATEGORIES:Childcare,Parents Night Out,Youth
END:VEVENT
BEGIN:VEVENT
DTSTART;TZID=America/Detroit:20300715T170000
DTEND;TZID=America/Detroit:20300715T200000
DTSTAMP:20260421T120939
CREATED:20260417T173208Z
LAST-MODIFIED:20260417T173512Z
UID:10003940-1910365200-1910376000@saginawymca.org
SUMMARY:KidZone
DESCRIPTION:While parents enjoy their workout or participate in classes\, they can relax knowing their children are in great hands. \nY-Members $1 \nNon Y-Members $5 \nRegister Here!
URL:https://saginawymca.org/event/kidzone/2030-07-15/
LOCATION:Saginaw YMCA\, 1915 Fordney St\, Saginaw\, MI\, 48601\, United States
CATEGORIES:Childcare,Parents Night Out,Youth
END:VEVENT
BEGIN:VEVENT
DTSTART;TZID=America/Detroit:20300717T170000
DTEND;TZID=America/Detroit:20300717T200000
DTSTAMP:20260421T120939
CREATED:20260417T173353Z
LAST-MODIFIED:20260417T173551Z
UID:10004201-1910538000-1910548800@saginawymca.org
SUMMARY:KidZone
DESCRIPTION:While parents enjoy their workout or participate in classes\, they can relax knowing their children are in great hands. \nY-Members $1 \nNon Y-Members $5 \nRegister Here!
URL:https://saginawymca.org/event/kidzone-2/2030-07-17/
LOCATION:Saginaw YMCA\, 1915 Fordney St\, Saginaw\, MI\, 48601\, United States
CATEGORIES:Childcare,Parents Night Out,Youth
END:VEVENT
BEGIN:VEVENT
DTSTART;TZID=America/Detroit:20300718T170000
DTEND;TZID=America/Detroit:20300718T200000
DTSTAMP:20260421T120939
CREATED:20260417T173423Z
LAST-MODIFIED:20260417T173616Z
UID:10004462-1910624400-1910635200@saginawymca.org
SUMMARY:KidZone
DESCRIPTION:While parents enjoy their workout or participate in classes\, they can relax knowing their children are in great hands. \nY-Members $1 \nNon Y-Members $5 \nRegister Here!
URL:https://saginawymca.org/event/kidzone-3/2030-07-18/
LOCATION:Saginaw YMCA\, 1915 Fordney St\, Saginaw\, MI\, 48601\, United States
CATEGORIES:Childcare,Parents Night Out,Youth
END:VEVENT
BEGIN:VEVENT
DTSTART;TZID=America/Detroit:20300720T090000
DTEND;TZID=America/Detroit:20300720T120000
DTSTAMP:20260421T120939
CREATED:20260417T173033Z
LAST-MODIFIED:20260417T173033Z
UID:10002115-1910768400-1910779200@saginawymca.org
SUMMARY:KidZone
DESCRIPTION:While parents enjoy their workout or participate in classes\, they can relax knowing their children are in great hands. \nY-Members $1 \nNon Y-Members $5 \nRegister Here!
URL:https://saginawymca.org/event/kid-zone-at-the-saginaw-ymca/2030-07-20/
LOCATION:Saginaw YMCA\, 1915 Fordney St\, Saginaw\, MI\, 48601\, United States
CATEGORIES:Childcare,Parents Night Out,Youth
END:VEVENT
BEGIN:VEVENT
DTSTART;TZID=America/Detroit:20300722T170000
DTEND;TZID=America/Detroit:20300722T200000
DTSTAMP:20260421T120939
CREATED:20260417T173208Z
LAST-MODIFIED:20260417T173512Z
UID:10003941-1910970000-1910980800@saginawymca.org
SUMMARY:KidZone
DESCRIPTION:While parents enjoy their workout or participate in classes\, they can relax knowing their children are in great hands. \nY-Members $1 \nNon Y-Members $5 \nRegister Here!
URL:https://saginawymca.org/event/kidzone/2030-07-22/
LOCATION:Saginaw YMCA\, 1915 Fordney St\, Saginaw\, MI\, 48601\, United States
CATEGORIES:Childcare,Parents Night Out,Youth
END:VEVENT
BEGIN:VEVENT
DTSTART;TZID=America/Detroit:20300724T170000
DTEND;TZID=America/Detroit:20300724T200000
DTSTAMP:20260421T120939
CREATED:20260417T173353Z
LAST-MODIFIED:20260417T173551Z
UID:10004202-1911142800-1911153600@saginawymca.org
SUMMARY:KidZone
DESCRIPTION:While parents enjoy their workout or participate in classes\, they can relax knowing their children are in great hands. \nY-Members $1 \nNon Y-Members $5 \nRegister Here!
URL:https://saginawymca.org/event/kidzone-2/2030-07-24/
LOCATION:Saginaw YMCA\, 1915 Fordney St\, Saginaw\, MI\, 48601\, United States
CATEGORIES:Childcare,Parents Night Out,Youth
END:VEVENT
BEGIN:VEVENT
DTSTART;TZID=America/Detroit:20300725T170000
DTEND;TZID=America/Detroit:20300725T200000
DTSTAMP:20260421T120939
CREATED:20260417T173423Z
LAST-MODIFIED:20260417T173616Z
UID:10004463-1911229200-1911240000@saginawymca.org
SUMMARY:KidZone
DESCRIPTION:While parents enjoy their workout or participate in classes\, they can relax knowing their children are in great hands. \nY-Members $1 \nNon Y-Members $5 \nRegister Here!
URL:https://saginawymca.org/event/kidzone-3/2030-07-25/
LOCATION:Saginaw YMCA\, 1915 Fordney St\, Saginaw\, MI\, 48601\, United States
CATEGORIES:Childcare,Parents Night Out,Youth
END:VEVENT
BEGIN:VEVENT
DTSTART;TZID=America/Detroit:20300727T090000
DTEND;TZID=America/Detroit:20300727T120000
DTSTAMP:20260421T120939
CREATED:20260417T173033Z
LAST-MODIFIED:20260417T173033Z
UID:10002116-1911373200-1911384000@saginawymca.org
SUMMARY:KidZone
DESCRIPTION:While parents enjoy their workout or participate in classes\, they can relax knowing their children are in great hands. \nY-Members $1 \nNon Y-Members $5 \nRegister Here!
URL:https://saginawymca.org/event/kid-zone-at-the-saginaw-ymca/2030-07-27/
LOCATION:Saginaw YMCA\, 1915 Fordney St\, Saginaw\, MI\, 48601\, United States
CATEGORIES:Childcare,Parents Night Out,Youth
END:VEVENT
BEGIN:VEVENT
DTSTART;TZID=America/Detroit:20300729T170000
DTEND;TZID=America/Detroit:20300729T200000
DTSTAMP:20260421T120939
CREATED:20260417T173208Z
LAST-MODIFIED:20260417T173512Z
UID:10003942-1911574800-1911585600@saginawymca.org
SUMMARY:KidZone
DESCRIPTION:While parents enjoy their workout or participate in classes\, they can relax knowing their children are in great hands. \nY-Members $1 \nNon Y-Members $5 \nRegister Here!
URL:https://saginawymca.org/event/kidzone/2030-07-29/
LOCATION:Saginaw YMCA\, 1915 Fordney St\, Saginaw\, MI\, 48601\, United States
CATEGORIES:Childcare,Parents Night Out,Youth
END:VEVENT
BEGIN:VEVENT
DTSTART;TZID=America/Detroit:20300731T170000
DTEND;TZID=America/Detroit:20300731T200000
DTSTAMP:20260421T120939
CREATED:20260417T173353Z
LAST-MODIFIED:20260417T173551Z
UID:10004203-1911747600-1911758400@saginawymca.org
SUMMARY:KidZone
DESCRIPTION:While parents enjoy their workout or participate in classes\, they can relax knowing their children are in great hands. \nY-Members $1 \nNon Y-Members $5 \nRegister Here!
URL:https://saginawymca.org/event/kidzone-2/2030-07-31/
LOCATION:Saginaw YMCA\, 1915 Fordney St\, Saginaw\, MI\, 48601\, United States
CATEGORIES:Childcare,Parents Night Out,Youth
END:VEVENT
BEGIN:VEVENT
DTSTART;TZID=America/Detroit:20300801T170000
DTEND;TZID=America/Detroit:20300801T200000
DTSTAMP:20260421T120939
CREATED:20260417T173423Z
LAST-MODIFIED:20260417T173616Z
UID:10004464-1911834000-1911844800@saginawymca.org
SUMMARY:KidZone
DESCRIPTION:While parents enjoy their workout or participate in classes\, they can relax knowing their children are in great hands. \nY-Members $1 \nNon Y-Members $5 \nRegister Here!
URL:https://saginawymca.org/event/kidzone-3/2030-08-01/
LOCATION:Saginaw YMCA\, 1915 Fordney St\, Saginaw\, MI\, 48601\, United States
CATEGORIES:Childcare,Parents Night Out,Youth
END:VEVENT
BEGIN:VEVENT
DTSTART;TZID=America/Detroit:20300803T090000
DTEND;TZID=America/Detroit:20300803T120000
DTSTAMP:20260421T120939
CREATED:20260417T173033Z
LAST-MODIFIED:20260417T173033Z
UID:10002117-1911978000-1911988800@saginawymca.org
SUMMARY:KidZone
DESCRIPTION:While parents enjoy their workout or participate in classes\, they can relax knowing their children are in great hands. \nY-Members $1 \nNon Y-Members $5 \nRegister Here!
URL:https://saginawymca.org/event/kid-zone-at-the-saginaw-ymca/2030-08-03/
LOCATION:Saginaw YMCA\, 1915 Fordney St\, Saginaw\, MI\, 48601\, United States
CATEGORIES:Childcare,Parents Night Out,Youth
END:VEVENT
BEGIN:VEVENT
DTSTART;TZID=America/Detroit:20300805T170000
DTEND;TZID=America/Detroit:20300805T200000
DTSTAMP:20260421T120939
CREATED:20260417T173208Z
LAST-MODIFIED:20260417T173512Z
UID:10003943-1912179600-1912190400@saginawymca.org
SUMMARY:KidZone
DESCRIPTION:While parents enjoy their workout or participate in classes\, they can relax knowing their children are in great hands. \nY-Members $1 \nNon Y-Members $5 \nRegister Here!
URL:https://saginawymca.org/event/kidzone/2030-08-05/
LOCATION:Saginaw YMCA\, 1915 Fordney St\, Saginaw\, MI\, 48601\, United States
CATEGORIES:Childcare,Parents Night Out,Youth
END:VEVENT
BEGIN:VEVENT
DTSTART;TZID=America/Detroit:20300807T170000
DTEND;TZID=America/Detroit:20300807T200000
DTSTAMP:20260421T120939
CREATED:20260417T173353Z
LAST-MODIFIED:20260417T173551Z
UID:10004204-1912352400-1912363200@saginawymca.org
SUMMARY:KidZone
DESCRIPTION:While parents enjoy their workout or participate in classes\, they can relax knowing their children are in great hands. \nY-Members $1 \nNon Y-Members $5 \nRegister Here!
URL:https://saginawymca.org/event/kidzone-2/2030-08-07/
LOCATION:Saginaw YMCA\, 1915 Fordney St\, Saginaw\, MI\, 48601\, United States
CATEGORIES:Childcare,Parents Night Out,Youth
END:VEVENT
BEGIN:VEVENT
DTSTART;TZID=America/Detroit:20300808T170000
DTEND;TZID=America/Detroit:20300808T200000
DTSTAMP:20260421T120939
CREATED:20260417T173423Z
LAST-MODIFIED:20260417T173616Z
UID:10004465-1912438800-1912449600@saginawymca.org
SUMMARY:KidZone
DESCRIPTION:While parents enjoy their workout or participate in classes\, they can relax knowing their children are in great hands. \nY-Members $1 \nNon Y-Members $5 \nRegister Here!
URL:https://saginawymca.org/event/kidzone-3/2030-08-08/
LOCATION:Saginaw YMCA\, 1915 Fordney St\, Saginaw\, MI\, 48601\, United States
CATEGORIES:Childcare,Parents Night Out,Youth
END:VEVENT
BEGIN:VEVENT
DTSTART;TZID=America/Detroit:20300810T090000
DTEND;TZID=America/Detroit:20300810T120000
DTSTAMP:20260421T120939
CREATED:20260417T173033Z
LAST-MODIFIED:20260417T173033Z
UID:10002118-1912582800-1912593600@saginawymca.org
SUMMARY:KidZone
DESCRIPTION:While parents enjoy their workout or participate in classes\, they can relax knowing their children are in great hands. \nY-Members $1 \nNon Y-Members $5 \nRegister Here!
URL:https://saginawymca.org/event/kid-zone-at-the-saginaw-ymca/2030-08-10/
LOCATION:Saginaw YMCA\, 1915 Fordney St\, Saginaw\, MI\, 48601\, United States
CATEGORIES:Childcare,Parents Night Out,Youth
END:VEVENT
BEGIN:VEVENT
DTSTART;TZID=America/Detroit:20300812T170000
DTEND;TZID=America/Detroit:20300812T200000
DTSTAMP:20260421T120939
CREATED:20260417T173208Z
LAST-MODIFIED:20260417T173512Z
UID:10003944-1912784400-1912795200@saginawymca.org
SUMMARY:KidZone
DESCRIPTION:While parents enjoy their workout or participate in classes\, they can relax knowing their children are in great hands. \nY-Members $1 \nNon Y-Members $5 \nRegister Here!
URL:https://saginawymca.org/event/kidzone/2030-08-12/
LOCATION:Saginaw YMCA\, 1915 Fordney St\, Saginaw\, MI\, 48601\, United States
CATEGORIES:Childcare,Parents Night Out,Youth
END:VEVENT
BEGIN:VEVENT
DTSTART;TZID=America/Detroit:20300814T170000
DTEND;TZID=America/Detroit:20300814T200000
DTSTAMP:20260421T120939
CREATED:20260417T173353Z
LAST-MODIFIED:20260417T173551Z
UID:10004205-1912957200-1912968000@saginawymca.org
SUMMARY:KidZone
DESCRIPTION:While parents enjoy their workout or participate in classes\, they can relax knowing their children are in great hands. \nY-Members $1 \nNon Y-Members $5 \nRegister Here!
URL:https://saginawymca.org/event/kidzone-2/2030-08-14/
LOCATION:Saginaw YMCA\, 1915 Fordney St\, Saginaw\, MI\, 48601\, United States
CATEGORIES:Childcare,Parents Night Out,Youth
END:VEVENT
BEGIN:VEVENT
DTSTART;TZID=America/Detroit:20300815T170000
DTEND;TZID=America/Detroit:20300815T200000
DTSTAMP:20260421T120939
CREATED:20260417T173423Z
LAST-MODIFIED:20260417T173616Z
UID:10004466-1913043600-1913054400@saginawymca.org
SUMMARY:KidZone
DESCRIPTION:While parents enjoy their workout or participate in classes\, they can relax knowing their children are in great hands. \nY-Members $1 \nNon Y-Members $5 \nRegister Here!
URL:https://saginawymca.org/event/kidzone-3/2030-08-15/
LOCATION:Saginaw YMCA\, 1915 Fordney St\, Saginaw\, MI\, 48601\, United States
CATEGORIES:Childcare,Parents Night Out,Youth
END:VEVENT
BEGIN:VEVENT
DTSTART;TZID=America/Detroit:20300817T090000
DTEND;TZID=America/Detroit:20300817T120000
DTSTAMP:20260421T120939
CREATED:20260417T173033Z
LAST-MODIFIED:20260417T173033Z
UID:10002119-1913187600-1913198400@saginawymca.org
SUMMARY:KidZone
DESCRIPTION:While parents enjoy their workout or participate in classes\, they can relax knowing their children are in great hands. \nY-Members $1 \nNon Y-Members $5 \nRegister Here!
URL:https://saginawymca.org/event/kid-zone-at-the-saginaw-ymca/2030-08-17/
LOCATION:Saginaw YMCA\, 1915 Fordney St\, Saginaw\, MI\, 48601\, United States
CATEGORIES:Childcare,Parents Night Out,Youth
END:VEVENT
BEGIN:VEVENT
DTSTART;TZID=America/Detroit:20300819T170000
DTEND;TZID=America/Detroit:20300819T200000
DTSTAMP:20260421T120939
CREATED:20260417T173208Z
LAST-MODIFIED:20260417T173512Z
UID:10003945-1913389200-1913400000@saginawymca.org
SUMMARY:KidZone
DESCRIPTION:While parents enjoy their workout or participate in classes\, they can relax knowing their children are in great hands. \nY-Members $1 \nNon Y-Members $5 \nRegister Here!
URL:https://saginawymca.org/event/kidzone/2030-08-19/
LOCATION:Saginaw YMCA\, 1915 Fordney St\, Saginaw\, MI\, 48601\, United States
CATEGORIES:Childcare,Parents Night Out,Youth
END:VEVENT
BEGIN:VEVENT
DTSTART;TZID=America/Detroit:20300821T170000
DTEND;TZID=America/Detroit:20300821T200000
DTSTAMP:20260421T120939
CREATED:20260417T173353Z
LAST-MODIFIED:20260417T173551Z
UID:10004206-1913562000-1913572800@saginawymca.org
SUMMARY:KidZone
DESCRIPTION:While parents enjoy their workout or participate in classes\, they can relax knowing their children are in great hands. \nY-Members $1 \nNon Y-Members $5 \nRegister Here!
URL:https://saginawymca.org/event/kidzone-2/2030-08-21/
LOCATION:Saginaw YMCA\, 1915 Fordney St\, Saginaw\, MI\, 48601\, United States
CATEGORIES:Childcare,Parents Night Out,Youth
END:VEVENT
BEGIN:VEVENT
DTSTART;TZID=America/Detroit:20300822T170000
DTEND;TZID=America/Detroit:20300822T200000
DTSTAMP:20260421T120939
CREATED:20260417T173423Z
LAST-MODIFIED:20260417T173616Z
UID:10004467-1913648400-1913659200@saginawymca.org
SUMMARY:KidZone
DESCRIPTION:While parents enjoy their workout or participate in classes\, they can relax knowing their children are in great hands. \nY-Members $1 \nNon Y-Members $5 \nRegister Here!
URL:https://saginawymca.org/event/kidzone-3/2030-08-22/
LOCATION:Saginaw YMCA\, 1915 Fordney St\, Saginaw\, MI\, 48601\, United States
CATEGORIES:Childcare,Parents Night Out,Youth
END:VEVENT
BEGIN:VEVENT
DTSTART;TZID=America/Detroit:20300824T090000
DTEND;TZID=America/Detroit:20300824T120000
DTSTAMP:20260421T120939
CREATED:20260417T173033Z
LAST-MODIFIED:20260417T173033Z
UID:10002120-1913792400-1913803200@saginawymca.org
SUMMARY:KidZone
DESCRIPTION:While parents enjoy their workout or participate in classes\, they can relax knowing their children are in great hands. \nY-Members $1 \nNon Y-Members $5 \nRegister Here!
URL:https://saginawymca.org/event/kid-zone-at-the-saginaw-ymca/2030-08-24/
LOCATION:Saginaw YMCA\, 1915 Fordney St\, Saginaw\, MI\, 48601\, United States
CATEGORIES:Childcare,Parents Night Out,Youth
END:VEVENT
END:VCALENDAR