BEGIN:VCALENDAR
VERSION:2.0
PRODID:-//Saginaw YMCA - ECPv6.15.20//NONSGML v1.0//EN
CALSCALE:GREGORIAN
METHOD:PUBLISH
X-ORIGINAL-URL:https://saginawymca.org
X-WR-CALDESC:Events for Saginaw YMCA
REFRESH-INTERVAL;VALUE=DURATION:PT1H
X-Robots-Tag:noindex
X-PUBLISHED-TTL:PT1H
BEGIN:VTIMEZONE
TZID:America/Detroit
BEGIN:DAYLIGHT
TZOFFSETFROM:-0500
TZOFFSETTO:-0400
TZNAME:EDT
DTSTART:20290311T070000
END:DAYLIGHT
BEGIN:STANDARD
TZOFFSETFROM:-0400
TZOFFSETTO:-0500
TZNAME:EST
DTSTART:20291104T060000
END:STANDARD
BEGIN:DAYLIGHT
TZOFFSETFROM:-0500
TZOFFSETTO:-0400
TZNAME:EDT
DTSTART:20300310T070000
END:DAYLIGHT
BEGIN:STANDARD
TZOFFSETFROM:-0400
TZOFFSETTO:-0500
TZNAME:EST
DTSTART:20301103T060000
END:STANDARD
BEGIN:DAYLIGHT
TZOFFSETFROM:-0500
TZOFFSETTO:-0400
TZNAME:EDT
DTSTART:20310309T070000
END:DAYLIGHT
BEGIN:STANDARD
TZOFFSETFROM:-0400
TZOFFSETTO:-0500
TZNAME:EST
DTSTART:20311102T060000
END:STANDARD
END:VTIMEZONE
BEGIN:VEVENT
DTSTART;TZID=America/Detroit:20300819T170000
DTEND;TZID=America/Detroit:20300819T200000
DTSTAMP:20260421T104807
CREATED:20260417T173208Z
LAST-MODIFIED:20260417T173512Z
UID:10003945-1913389200-1913400000@saginawymca.org
SUMMARY:KidZone
DESCRIPTION:While parents enjoy their workout or participate in classes\, they can relax knowing their children are in great hands. \nY-Members $1 \nNon Y-Members $5 \nRegister Here!
URL:https://saginawymca.org/event/kidzone/2030-08-19/
LOCATION:Saginaw YMCA\, 1915 Fordney St\, Saginaw\, MI\, 48601\, United States
CATEGORIES:Childcare,Parents Night Out,Youth
END:VEVENT
BEGIN:VEVENT
DTSTART;TZID=America/Detroit:20300821T170000
DTEND;TZID=America/Detroit:20300821T200000
DTSTAMP:20260421T104807
CREATED:20260417T173353Z
LAST-MODIFIED:20260417T173551Z
UID:10004206-1913562000-1913572800@saginawymca.org
SUMMARY:KidZone
DESCRIPTION:While parents enjoy their workout or participate in classes\, they can relax knowing their children are in great hands. \nY-Members $1 \nNon Y-Members $5 \nRegister Here!
URL:https://saginawymca.org/event/kidzone-2/2030-08-21/
LOCATION:Saginaw YMCA\, 1915 Fordney St\, Saginaw\, MI\, 48601\, United States
CATEGORIES:Childcare,Parents Night Out,Youth
END:VEVENT
BEGIN:VEVENT
DTSTART;TZID=America/Detroit:20300822T170000
DTEND;TZID=America/Detroit:20300822T200000
DTSTAMP:20260421T104807
CREATED:20260417T173423Z
LAST-MODIFIED:20260417T173616Z
UID:10004467-1913648400-1913659200@saginawymca.org
SUMMARY:KidZone
DESCRIPTION:While parents enjoy their workout or participate in classes\, they can relax knowing their children are in great hands. \nY-Members $1 \nNon Y-Members $5 \nRegister Here!
URL:https://saginawymca.org/event/kidzone-3/2030-08-22/
LOCATION:Saginaw YMCA\, 1915 Fordney St\, Saginaw\, MI\, 48601\, United States
CATEGORIES:Childcare,Parents Night Out,Youth
END:VEVENT
BEGIN:VEVENT
DTSTART;TZID=America/Detroit:20300824T090000
DTEND;TZID=America/Detroit:20300824T120000
DTSTAMP:20260421T104807
CREATED:20260417T173033Z
LAST-MODIFIED:20260417T173033Z
UID:10002120-1913792400-1913803200@saginawymca.org
SUMMARY:KidZone
DESCRIPTION:While parents enjoy their workout or participate in classes\, they can relax knowing their children are in great hands. \nY-Members $1 \nNon Y-Members $5 \nRegister Here!
URL:https://saginawymca.org/event/kid-zone-at-the-saginaw-ymca/2030-08-24/
LOCATION:Saginaw YMCA\, 1915 Fordney St\, Saginaw\, MI\, 48601\, United States
CATEGORIES:Childcare,Parents Night Out,Youth
END:VEVENT
BEGIN:VEVENT
DTSTART;TZID=America/Detroit:20300826T170000
DTEND;TZID=America/Detroit:20300826T200000
DTSTAMP:20260421T104807
CREATED:20260417T173208Z
LAST-MODIFIED:20260417T173512Z
UID:10003946-1913994000-1914004800@saginawymca.org
SUMMARY:KidZone
DESCRIPTION:While parents enjoy their workout or participate in classes\, they can relax knowing their children are in great hands. \nY-Members $1 \nNon Y-Members $5 \nRegister Here!
URL:https://saginawymca.org/event/kidzone/2030-08-26/
LOCATION:Saginaw YMCA\, 1915 Fordney St\, Saginaw\, MI\, 48601\, United States
CATEGORIES:Childcare,Parents Night Out,Youth
END:VEVENT
BEGIN:VEVENT
DTSTART;TZID=America/Detroit:20300828T170000
DTEND;TZID=America/Detroit:20300828T200000
DTSTAMP:20260421T104807
CREATED:20260417T173353Z
LAST-MODIFIED:20260417T173551Z
UID:10004207-1914166800-1914177600@saginawymca.org
SUMMARY:KidZone
DESCRIPTION:While parents enjoy their workout or participate in classes\, they can relax knowing their children are in great hands. \nY-Members $1 \nNon Y-Members $5 \nRegister Here!
URL:https://saginawymca.org/event/kidzone-2/2030-08-28/
LOCATION:Saginaw YMCA\, 1915 Fordney St\, Saginaw\, MI\, 48601\, United States
CATEGORIES:Childcare,Parents Night Out,Youth
END:VEVENT
BEGIN:VEVENT
DTSTART;TZID=America/Detroit:20300829T170000
DTEND;TZID=America/Detroit:20300829T200000
DTSTAMP:20260421T104807
CREATED:20260417T173423Z
LAST-MODIFIED:20260417T173616Z
UID:10004468-1914253200-1914264000@saginawymca.org
SUMMARY:KidZone
DESCRIPTION:While parents enjoy their workout or participate in classes\, they can relax knowing their children are in great hands. \nY-Members $1 \nNon Y-Members $5 \nRegister Here!
URL:https://saginawymca.org/event/kidzone-3/2030-08-29/
LOCATION:Saginaw YMCA\, 1915 Fordney St\, Saginaw\, MI\, 48601\, United States
CATEGORIES:Childcare,Parents Night Out,Youth
END:VEVENT
BEGIN:VEVENT
DTSTART;TZID=America/Detroit:20300831T090000
DTEND;TZID=America/Detroit:20300831T120000
DTSTAMP:20260421T104807
CREATED:20260417T173033Z
LAST-MODIFIED:20260417T173033Z
UID:10002121-1914397200-1914408000@saginawymca.org
SUMMARY:KidZone
DESCRIPTION:While parents enjoy their workout or participate in classes\, they can relax knowing their children are in great hands. \nY-Members $1 \nNon Y-Members $5 \nRegister Here!
URL:https://saginawymca.org/event/kid-zone-at-the-saginaw-ymca/2030-08-31/
LOCATION:Saginaw YMCA\, 1915 Fordney St\, Saginaw\, MI\, 48601\, United States
CATEGORIES:Childcare,Parents Night Out,Youth
END:VEVENT
BEGIN:VEVENT
DTSTART;TZID=America/Detroit:20300902T170000
DTEND;TZID=America/Detroit:20300902T200000
DTSTAMP:20260421T104807
CREATED:20260417T173208Z
LAST-MODIFIED:20260417T173512Z
UID:10003947-1914598800-1914609600@saginawymca.org
SUMMARY:KidZone
DESCRIPTION:While parents enjoy their workout or participate in classes\, they can relax knowing their children are in great hands. \nY-Members $1 \nNon Y-Members $5 \nRegister Here!
URL:https://saginawymca.org/event/kidzone/2030-09-02/
LOCATION:Saginaw YMCA\, 1915 Fordney St\, Saginaw\, MI\, 48601\, United States
CATEGORIES:Childcare,Parents Night Out,Youth
END:VEVENT
BEGIN:VEVENT
DTSTART;TZID=America/Detroit:20300904T170000
DTEND;TZID=America/Detroit:20300904T200000
DTSTAMP:20260421T104807
CREATED:20260417T173353Z
LAST-MODIFIED:20260417T173551Z
UID:10004208-1914771600-1914782400@saginawymca.org
SUMMARY:KidZone
DESCRIPTION:While parents enjoy their workout or participate in classes\, they can relax knowing their children are in great hands. \nY-Members $1 \nNon Y-Members $5 \nRegister Here!
URL:https://saginawymca.org/event/kidzone-2/2030-09-04/
LOCATION:Saginaw YMCA\, 1915 Fordney St\, Saginaw\, MI\, 48601\, United States
CATEGORIES:Childcare,Parents Night Out,Youth
END:VEVENT
BEGIN:VEVENT
DTSTART;TZID=America/Detroit:20300905T170000
DTEND;TZID=America/Detroit:20300905T200000
DTSTAMP:20260421T104807
CREATED:20260417T173423Z
LAST-MODIFIED:20260417T173616Z
UID:10004469-1914858000-1914868800@saginawymca.org
SUMMARY:KidZone
DESCRIPTION:While parents enjoy their workout or participate in classes\, they can relax knowing their children are in great hands. \nY-Members $1 \nNon Y-Members $5 \nRegister Here!
URL:https://saginawymca.org/event/kidzone-3/2030-09-05/
LOCATION:Saginaw YMCA\, 1915 Fordney St\, Saginaw\, MI\, 48601\, United States
CATEGORIES:Childcare,Parents Night Out,Youth
END:VEVENT
BEGIN:VEVENT
DTSTART;TZID=America/Detroit:20300907T090000
DTEND;TZID=America/Detroit:20300907T120000
DTSTAMP:20260421T104807
CREATED:20260417T173033Z
LAST-MODIFIED:20260417T173033Z
UID:10002122-1915002000-1915012800@saginawymca.org
SUMMARY:KidZone
DESCRIPTION:While parents enjoy their workout or participate in classes\, they can relax knowing their children are in great hands. \nY-Members $1 \nNon Y-Members $5 \nRegister Here!
URL:https://saginawymca.org/event/kid-zone-at-the-saginaw-ymca/2030-09-07/
LOCATION:Saginaw YMCA\, 1915 Fordney St\, Saginaw\, MI\, 48601\, United States
CATEGORIES:Childcare,Parents Night Out,Youth
END:VEVENT
BEGIN:VEVENT
DTSTART;TZID=America/Detroit:20300909T170000
DTEND;TZID=America/Detroit:20300909T200000
DTSTAMP:20260421T104807
CREATED:20260417T173208Z
LAST-MODIFIED:20260417T173512Z
UID:10003948-1915203600-1915214400@saginawymca.org
SUMMARY:KidZone
DESCRIPTION:While parents enjoy their workout or participate in classes\, they can relax knowing their children are in great hands. \nY-Members $1 \nNon Y-Members $5 \nRegister Here!
URL:https://saginawymca.org/event/kidzone/2030-09-09/
LOCATION:Saginaw YMCA\, 1915 Fordney St\, Saginaw\, MI\, 48601\, United States
CATEGORIES:Childcare,Parents Night Out,Youth
END:VEVENT
BEGIN:VEVENT
DTSTART;TZID=America/Detroit:20300911T170000
DTEND;TZID=America/Detroit:20300911T200000
DTSTAMP:20260421T104807
CREATED:20260417T173353Z
LAST-MODIFIED:20260417T173551Z
UID:10004209-1915376400-1915387200@saginawymca.org
SUMMARY:KidZone
DESCRIPTION:While parents enjoy their workout or participate in classes\, they can relax knowing their children are in great hands. \nY-Members $1 \nNon Y-Members $5 \nRegister Here!
URL:https://saginawymca.org/event/kidzone-2/2030-09-11/
LOCATION:Saginaw YMCA\, 1915 Fordney St\, Saginaw\, MI\, 48601\, United States
CATEGORIES:Childcare,Parents Night Out,Youth
END:VEVENT
BEGIN:VEVENT
DTSTART;TZID=America/Detroit:20300912T170000
DTEND;TZID=America/Detroit:20300912T200000
DTSTAMP:20260421T104807
CREATED:20260417T173423Z
LAST-MODIFIED:20260417T173616Z
UID:10004470-1915462800-1915473600@saginawymca.org
SUMMARY:KidZone
DESCRIPTION:While parents enjoy their workout or participate in classes\, they can relax knowing their children are in great hands. \nY-Members $1 \nNon Y-Members $5 \nRegister Here!
URL:https://saginawymca.org/event/kidzone-3/2030-09-12/
LOCATION:Saginaw YMCA\, 1915 Fordney St\, Saginaw\, MI\, 48601\, United States
CATEGORIES:Childcare,Parents Night Out,Youth
END:VEVENT
BEGIN:VEVENT
DTSTART;TZID=America/Detroit:20300914T090000
DTEND;TZID=America/Detroit:20300914T120000
DTSTAMP:20260421T104807
CREATED:20260417T173033Z
LAST-MODIFIED:20260417T173033Z
UID:10002123-1915606800-1915617600@saginawymca.org
SUMMARY:KidZone
DESCRIPTION:While parents enjoy their workout or participate in classes\, they can relax knowing their children are in great hands. \nY-Members $1 \nNon Y-Members $5 \nRegister Here!
URL:https://saginawymca.org/event/kid-zone-at-the-saginaw-ymca/2030-09-14/
LOCATION:Saginaw YMCA\, 1915 Fordney St\, Saginaw\, MI\, 48601\, United States
CATEGORIES:Childcare,Parents Night Out,Youth
END:VEVENT
BEGIN:VEVENT
DTSTART;TZID=America/Detroit:20300916T170000
DTEND;TZID=America/Detroit:20300916T200000
DTSTAMP:20260421T104807
CREATED:20260417T173208Z
LAST-MODIFIED:20260417T173512Z
UID:10003949-1915808400-1915819200@saginawymca.org
SUMMARY:KidZone
DESCRIPTION:While parents enjoy their workout or participate in classes\, they can relax knowing their children are in great hands. \nY-Members $1 \nNon Y-Members $5 \nRegister Here!
URL:https://saginawymca.org/event/kidzone/2030-09-16/
LOCATION:Saginaw YMCA\, 1915 Fordney St\, Saginaw\, MI\, 48601\, United States
CATEGORIES:Childcare,Parents Night Out,Youth
END:VEVENT
BEGIN:VEVENT
DTSTART;TZID=America/Detroit:20300918T170000
DTEND;TZID=America/Detroit:20300918T200000
DTSTAMP:20260421T104807
CREATED:20260417T173353Z
LAST-MODIFIED:20260417T173551Z
UID:10004210-1915981200-1915992000@saginawymca.org
SUMMARY:KidZone
DESCRIPTION:While parents enjoy their workout or participate in classes\, they can relax knowing their children are in great hands. \nY-Members $1 \nNon Y-Members $5 \nRegister Here!
URL:https://saginawymca.org/event/kidzone-2/2030-09-18/
LOCATION:Saginaw YMCA\, 1915 Fordney St\, Saginaw\, MI\, 48601\, United States
CATEGORIES:Childcare,Parents Night Out,Youth
END:VEVENT
BEGIN:VEVENT
DTSTART;TZID=America/Detroit:20300919T170000
DTEND;TZID=America/Detroit:20300919T200000
DTSTAMP:20260421T104807
CREATED:20260417T173423Z
LAST-MODIFIED:20260417T173616Z
UID:10004471-1916067600-1916078400@saginawymca.org
SUMMARY:KidZone
DESCRIPTION:While parents enjoy their workout or participate in classes\, they can relax knowing their children are in great hands. \nY-Members $1 \nNon Y-Members $5 \nRegister Here!
URL:https://saginawymca.org/event/kidzone-3/2030-09-19/
LOCATION:Saginaw YMCA\, 1915 Fordney St\, Saginaw\, MI\, 48601\, United States
CATEGORIES:Childcare,Parents Night Out,Youth
END:VEVENT
BEGIN:VEVENT
DTSTART;TZID=America/Detroit:20300921T090000
DTEND;TZID=America/Detroit:20300921T120000
DTSTAMP:20260421T104807
CREATED:20260417T173033Z
LAST-MODIFIED:20260417T173033Z
UID:10002124-1916211600-1916222400@saginawymca.org
SUMMARY:KidZone
DESCRIPTION:While parents enjoy their workout or participate in classes\, they can relax knowing their children are in great hands. \nY-Members $1 \nNon Y-Members $5 \nRegister Here!
URL:https://saginawymca.org/event/kid-zone-at-the-saginaw-ymca/2030-09-21/
LOCATION:Saginaw YMCA\, 1915 Fordney St\, Saginaw\, MI\, 48601\, United States
CATEGORIES:Childcare,Parents Night Out,Youth
END:VEVENT
BEGIN:VEVENT
DTSTART;TZID=America/Detroit:20300923T170000
DTEND;TZID=America/Detroit:20300923T200000
DTSTAMP:20260421T104807
CREATED:20260417T173208Z
LAST-MODIFIED:20260417T173512Z
UID:10003950-1916413200-1916424000@saginawymca.org
SUMMARY:KidZone
DESCRIPTION:While parents enjoy their workout or participate in classes\, they can relax knowing their children are in great hands. \nY-Members $1 \nNon Y-Members $5 \nRegister Here!
URL:https://saginawymca.org/event/kidzone/2030-09-23/
LOCATION:Saginaw YMCA\, 1915 Fordney St\, Saginaw\, MI\, 48601\, United States
CATEGORIES:Childcare,Parents Night Out,Youth
END:VEVENT
BEGIN:VEVENT
DTSTART;TZID=America/Detroit:20300925T170000
DTEND;TZID=America/Detroit:20300925T200000
DTSTAMP:20260421T104807
CREATED:20260417T173353Z
LAST-MODIFIED:20260417T173551Z
UID:10004211-1916586000-1916596800@saginawymca.org
SUMMARY:KidZone
DESCRIPTION:While parents enjoy their workout or participate in classes\, they can relax knowing their children are in great hands. \nY-Members $1 \nNon Y-Members $5 \nRegister Here!
URL:https://saginawymca.org/event/kidzone-2/2030-09-25/
LOCATION:Saginaw YMCA\, 1915 Fordney St\, Saginaw\, MI\, 48601\, United States
CATEGORIES:Childcare,Parents Night Out,Youth
END:VEVENT
BEGIN:VEVENT
DTSTART;TZID=America/Detroit:20300926T170000
DTEND;TZID=America/Detroit:20300926T200000
DTSTAMP:20260421T104807
CREATED:20260417T173423Z
LAST-MODIFIED:20260417T173616Z
UID:10004472-1916672400-1916683200@saginawymca.org
SUMMARY:KidZone
DESCRIPTION:While parents enjoy their workout or participate in classes\, they can relax knowing their children are in great hands. \nY-Members $1 \nNon Y-Members $5 \nRegister Here!
URL:https://saginawymca.org/event/kidzone-3/2030-09-26/
LOCATION:Saginaw YMCA\, 1915 Fordney St\, Saginaw\, MI\, 48601\, United States
CATEGORIES:Childcare,Parents Night Out,Youth
END:VEVENT
BEGIN:VEVENT
DTSTART;TZID=America/Detroit:20300928T090000
DTEND;TZID=America/Detroit:20300928T120000
DTSTAMP:20260421T104807
CREATED:20260417T173033Z
LAST-MODIFIED:20260417T173033Z
UID:10002125-1916816400-1916827200@saginawymca.org
SUMMARY:KidZone
DESCRIPTION:While parents enjoy their workout or participate in classes\, they can relax knowing their children are in great hands. \nY-Members $1 \nNon Y-Members $5 \nRegister Here!
URL:https://saginawymca.org/event/kid-zone-at-the-saginaw-ymca/2030-09-28/
LOCATION:Saginaw YMCA\, 1915 Fordney St\, Saginaw\, MI\, 48601\, United States
CATEGORIES:Childcare,Parents Night Out,Youth
END:VEVENT
BEGIN:VEVENT
DTSTART;TZID=America/Detroit:20300930T170000
DTEND;TZID=America/Detroit:20300930T200000
DTSTAMP:20260421T104807
CREATED:20260417T173208Z
LAST-MODIFIED:20260417T173512Z
UID:10003951-1917018000-1917028800@saginawymca.org
SUMMARY:KidZone
DESCRIPTION:While parents enjoy their workout or participate in classes\, they can relax knowing their children are in great hands. \nY-Members $1 \nNon Y-Members $5 \nRegister Here!
URL:https://saginawymca.org/event/kidzone/2030-09-30/
LOCATION:Saginaw YMCA\, 1915 Fordney St\, Saginaw\, MI\, 48601\, United States
CATEGORIES:Childcare,Parents Night Out,Youth
END:VEVENT
BEGIN:VEVENT
DTSTART;TZID=America/Detroit:20301002T170000
DTEND;TZID=America/Detroit:20301002T200000
DTSTAMP:20260421T104807
CREATED:20260417T173353Z
LAST-MODIFIED:20260417T173551Z
UID:10004212-1917190800-1917201600@saginawymca.org
SUMMARY:KidZone
DESCRIPTION:While parents enjoy their workout or participate in classes\, they can relax knowing their children are in great hands. \nY-Members $1 \nNon Y-Members $5 \nRegister Here!
URL:https://saginawymca.org/event/kidzone-2/2030-10-02/
LOCATION:Saginaw YMCA\, 1915 Fordney St\, Saginaw\, MI\, 48601\, United States
CATEGORIES:Childcare,Parents Night Out,Youth
END:VEVENT
BEGIN:VEVENT
DTSTART;TZID=America/Detroit:20301003T170000
DTEND;TZID=America/Detroit:20301003T200000
DTSTAMP:20260421T104807
CREATED:20260417T173423Z
LAST-MODIFIED:20260417T173616Z
UID:10004473-1917277200-1917288000@saginawymca.org
SUMMARY:KidZone
DESCRIPTION:While parents enjoy their workout or participate in classes\, they can relax knowing their children are in great hands. \nY-Members $1 \nNon Y-Members $5 \nRegister Here!
URL:https://saginawymca.org/event/kidzone-3/2030-10-03/
LOCATION:Saginaw YMCA\, 1915 Fordney St\, Saginaw\, MI\, 48601\, United States
CATEGORIES:Childcare,Parents Night Out,Youth
END:VEVENT
BEGIN:VEVENT
DTSTART;TZID=America/Detroit:20301005T090000
DTEND;TZID=America/Detroit:20301005T120000
DTSTAMP:20260421T104807
CREATED:20260417T173033Z
LAST-MODIFIED:20260417T173033Z
UID:10002126-1917421200-1917432000@saginawymca.org
SUMMARY:KidZone
DESCRIPTION:While parents enjoy their workout or participate in classes\, they can relax knowing their children are in great hands. \nY-Members $1 \nNon Y-Members $5 \nRegister Here!
URL:https://saginawymca.org/event/kid-zone-at-the-saginaw-ymca/2030-10-05/
LOCATION:Saginaw YMCA\, 1915 Fordney St\, Saginaw\, MI\, 48601\, United States
CATEGORIES:Childcare,Parents Night Out,Youth
END:VEVENT
BEGIN:VEVENT
DTSTART;TZID=America/Detroit:20301007T170000
DTEND;TZID=America/Detroit:20301007T200000
DTSTAMP:20260421T104807
CREATED:20260417T173208Z
LAST-MODIFIED:20260417T173512Z
UID:10003952-1917622800-1917633600@saginawymca.org
SUMMARY:KidZone
DESCRIPTION:While parents enjoy their workout or participate in classes\, they can relax knowing their children are in great hands. \nY-Members $1 \nNon Y-Members $5 \nRegister Here!
URL:https://saginawymca.org/event/kidzone/2030-10-07/
LOCATION:Saginaw YMCA\, 1915 Fordney St\, Saginaw\, MI\, 48601\, United States
CATEGORIES:Childcare,Parents Night Out,Youth
END:VEVENT
BEGIN:VEVENT
DTSTART;TZID=America/Detroit:20301009T170000
DTEND;TZID=America/Detroit:20301009T200000
DTSTAMP:20260421T104807
CREATED:20260417T173353Z
LAST-MODIFIED:20260417T173551Z
UID:10004213-1917795600-1917806400@saginawymca.org
SUMMARY:KidZone
DESCRIPTION:While parents enjoy their workout or participate in classes\, they can relax knowing their children are in great hands. \nY-Members $1 \nNon Y-Members $5 \nRegister Here!
URL:https://saginawymca.org/event/kidzone-2/2030-10-09/
LOCATION:Saginaw YMCA\, 1915 Fordney St\, Saginaw\, MI\, 48601\, United States
CATEGORIES:Childcare,Parents Night Out,Youth
END:VEVENT
END:VCALENDAR