BEGIN:VCALENDAR
VERSION:2.0
PRODID:-//Saginaw YMCA - ECPv6.15.20//NONSGML v1.0//EN
CALSCALE:GREGORIAN
METHOD:PUBLISH
X-WR-CALNAME:Saginaw YMCA
X-ORIGINAL-URL:https://saginawymca.org
X-WR-CALDESC:Events for Saginaw YMCA
REFRESH-INTERVAL;VALUE=DURATION:PT1H
X-Robots-Tag:noindex
X-PUBLISHED-TTL:PT1H
BEGIN:VTIMEZONE
TZID:America/Detroit
BEGIN:DAYLIGHT
TZOFFSETFROM:-0500
TZOFFSETTO:-0400
TZNAME:EDT
DTSTART:20250309T070000
END:DAYLIGHT
BEGIN:STANDARD
TZOFFSETFROM:-0400
TZOFFSETTO:-0500
TZNAME:EST
DTSTART:20251102T060000
END:STANDARD
BEGIN:DAYLIGHT
TZOFFSETFROM:-0500
TZOFFSETTO:-0400
TZNAME:EDT
DTSTART:20260308T070000
END:DAYLIGHT
BEGIN:STANDARD
TZOFFSETFROM:-0400
TZOFFSETTO:-0500
TZNAME:EST
DTSTART:20261101T060000
END:STANDARD
BEGIN:DAYLIGHT
TZOFFSETFROM:-0500
TZOFFSETTO:-0400
TZNAME:EDT
DTSTART:20270314T070000
END:DAYLIGHT
BEGIN:STANDARD
TZOFFSETFROM:-0400
TZOFFSETTO:-0500
TZNAME:EST
DTSTART:20271107T060000
END:STANDARD
END:VTIMEZONE
BEGIN:VEVENT
DTSTART;TZID=America/Detroit:20260423T170000
DTEND;TZID=America/Detroit:20260423T200000
DTSTAMP:20260423T071100
CREATED:20260417T173423Z
LAST-MODIFIED:20260417T173616Z
UID:10004241-1776963600-1776974400@saginawymca.org
SUMMARY:KidZone
DESCRIPTION:While parents enjoy their workout or participate in classes\, they can relax knowing their children are in great hands. \nY-Members $1 \nNon Y-Members $5 \nRegister Here!
URL:https://saginawymca.org/event/kidzone-3/2026-04-23/
LOCATION:Saginaw YMCA\, 1915 Fordney St\, Saginaw\, MI\, 48601\, United States
CATEGORIES:Childcare,Parents Night Out,Youth
END:VEVENT
BEGIN:VEVENT
DTSTART;TZID=America/Detroit:20260425T090000
DTEND;TZID=America/Detroit:20260425T120000
DTSTAMP:20260423T071100
CREATED:20260417T173033Z
LAST-MODIFIED:20260417T173033Z
UID:10001894-1777107600-1777118400@saginawymca.org
SUMMARY:KidZone
DESCRIPTION:While parents enjoy their workout or participate in classes\, they can relax knowing their children are in great hands. \nY-Members $1 \nNon Y-Members $5 \nRegister Here!
URL:https://saginawymca.org/event/kid-zone-at-the-saginaw-ymca/2026-04-25/
LOCATION:Saginaw YMCA\, 1915 Fordney St\, Saginaw\, MI\, 48601\, United States
CATEGORIES:Childcare,Parents Night Out,Youth
END:VEVENT
BEGIN:VEVENT
DTSTART;TZID=America/Detroit:20260427T170000
DTEND;TZID=America/Detroit:20260427T200000
DTSTAMP:20260423T071100
CREATED:20260417T173208Z
LAST-MODIFIED:20260417T173512Z
UID:10003720-1777309200-1777320000@saginawymca.org
SUMMARY:KidZone
DESCRIPTION:While parents enjoy their workout or participate in classes\, they can relax knowing their children are in great hands. \nY-Members $1 \nNon Y-Members $5 \nRegister Here!
URL:https://saginawymca.org/event/kidzone/2026-04-27/
LOCATION:Saginaw YMCA\, 1915 Fordney St\, Saginaw\, MI\, 48601\, United States
CATEGORIES:Childcare,Parents Night Out,Youth
END:VEVENT
BEGIN:VEVENT
DTSTART;TZID=America/Detroit:20260429T170000
DTEND;TZID=America/Detroit:20260429T200000
DTSTAMP:20260423T071100
CREATED:20260417T173353Z
LAST-MODIFIED:20260417T173551Z
UID:10003981-1777482000-1777492800@saginawymca.org
SUMMARY:KidZone
DESCRIPTION:While parents enjoy their workout or participate in classes\, they can relax knowing their children are in great hands. \nY-Members $1 \nNon Y-Members $5 \nRegister Here!
URL:https://saginawymca.org/event/kidzone-2/2026-04-29/
LOCATION:Saginaw YMCA\, 1915 Fordney St\, Saginaw\, MI\, 48601\, United States
CATEGORIES:Childcare,Parents Night Out,Youth
END:VEVENT
BEGIN:VEVENT
DTSTART;TZID=America/Detroit:20260430T170000
DTEND;TZID=America/Detroit:20260430T200000
DTSTAMP:20260423T071100
CREATED:20260417T173423Z
LAST-MODIFIED:20260417T173616Z
UID:10004242-1777568400-1777579200@saginawymca.org
SUMMARY:KidZone
DESCRIPTION:While parents enjoy their workout or participate in classes\, they can relax knowing their children are in great hands. \nY-Members $1 \nNon Y-Members $5 \nRegister Here!
URL:https://saginawymca.org/event/kidzone-3/2026-04-30/
LOCATION:Saginaw YMCA\, 1915 Fordney St\, Saginaw\, MI\, 48601\, United States
CATEGORIES:Childcare,Parents Night Out,Youth
END:VEVENT
END:VCALENDAR